Workbook
Name active_row: CELL("row")-CELL("row",Consolidated!rng_h)+1
Name active_row: CELL("row")-CELL("row",'Sitio 10'!rng_h)+1
Name active_row: CELL("row")-CELL("row",'Sitio 2'!rng_h)+1
Name active_row: CELL("row")-CELL("row",'Sitio 3'!rng_h)+1
Name active_row: CELL("row")-CELL("row",'Sitio 4'!rng_h)+1
Name active_row: CELL("row")-CELL("row",'Sitio 5'!rng_h)+1
Name active_row: CELL("row")-CELL("row",'Sitio 6'!rng_h)+1
Name active_row: CELL("row")-CELL("row",'Sitio 7'!rng_h)+1
Name active_row: CELL("row")-CELL("row",'Sitio 8'!rng_h)+1
Name active_row: CELL("row")-CELL("row",'Sitio 9'!rng_h)+1
Name active_row: CELL("row")-CELL("row",rng_h)+1
Name arr_01: MMULT(--(MATCH(ROW(#REF!),Consolidated!arr_s,1)=Consolidated!arr_c),Consolidated!rng_h)*ISERROR(MATCH(ROW(#REF!),INT(Consolidated!arr_s)+1,0))
Name arr_01: MMULT(--(MATCH(ROW(#REF!),'Sitio 10'!arr_s,1)='Sitio 10'!arr_c),'Sitio 10'!rng_h)*ISERROR(MATCH(ROW(#REF!),INT('Sitio 10'!arr_s)+1,0))
Name arr_01: MMULT(--(MATCH(ROW(#REF!),'Sitio 2'!arr_s,1)='Sitio 2'!arr_c),'Sitio 2'!rng_h)*ISERROR(MATCH(ROW(#REF!),INT('Sitio 2'!arr_s)+1,0))
Name arr_01: MMULT(--(MATCH(ROW(#REF!),'Sitio 3'!arr_s,1)='Sitio 3'!arr_c),'Sitio 3'!rng_h)*ISERROR(MATCH(ROW(#REF!),INT('Sitio 3'!arr_s)+1,0))
Name arr_01: MMULT(--(MATCH(ROW(#REF!),'Sitio 4'!arr_s,1)='Sitio 4'!arr_c),'Sitio 4'!rng_h)*ISERROR(MATCH(ROW(#REF!),INT('Sitio 4'!arr_s)+1,0))
Name arr_01: MMULT(--(MATCH(ROW(#REF!),'Sitio 5'!arr_s,1)='Sitio 5'!arr_c),'Sitio 5'!rng_h)*ISERROR(MATCH(ROW(#REF!),INT('Sitio 5'!arr_s)+1,0))
Name arr_01: MMULT(--(MATCH(ROW(#REF!),'Sitio 6'!arr_s,1)='Sitio 6'!arr_c),'Sitio 6'!rng_h)*ISERROR(MATCH(ROW(#REF!),INT('Sitio 6'!arr_s)+1,0))
Name arr_01: MMULT(--(MATCH(ROW(#REF!),'Sitio 7'!arr_s,1)='Sitio 7'!arr_c),'Sitio 7'!rng_h)*ISERROR(MATCH(ROW(#REF!),INT('Sitio 7'!arr_s)+1,0))
Name arr_01: MMULT(--(MATCH(ROW(#REF!),'Sitio 8'!arr_s,1)='Sitio 8'!arr_c),'Sitio 8'!rng_h)*ISERROR(MATCH(ROW(#REF!),INT('Sitio 8'!arr_s)+1,0))
Name arr_01: MMULT(--(MATCH(ROW(#REF!),'Sitio 9'!arr_s,1)='Sitio 9'!arr_c),'Sitio 9'!rng_h)*ISERROR(MATCH(ROW(#REF!),INT('Sitio 9'!arr_s)+1,0))
Name arr_01: MMULT(--(MATCH(ROW(#REF!),arr_s,1)=arr_c),rng_h)*ISERROR(MATCH(ROW(#REF!),INT(arr_s)+1,0))
Name arr_1: MOD(MATCH(ROW(#REF!),Consolidated!arr_s,1),2)*MATCH(ROW(#REF!),Consolidated!arr_s,1)
Name arr_1: MOD(MATCH(ROW(#REF!),'Sitio 10'!arr_s,1),2)*MATCH(ROW(#REF!),'Sitio 10'!arr_s,1)
Name arr_1: MOD(MATCH(ROW(#REF!),'Sitio 2'!arr_s,1),2)*MATCH(ROW(#REF!),'Sitio 2'!arr_s,1)
Name arr_1: MOD(MATCH(ROW(#REF!),'Sitio 3'!arr_s,1),2)*MATCH(ROW(#REF!),'Sitio 3'!arr_s,1)
Name arr_1: MOD(MATCH(ROW(#REF!),'Sitio 4'!arr_s,1),2)*MATCH(ROW(#REF!),'Sitio 4'!arr_s,1)
Name arr_1: MOD(MATCH(ROW(#REF!),'Sitio 5'!arr_s,1),2)*MATCH(ROW(#REF!),'Sitio 5'!arr_s,1)
Name arr_1: MOD(MATCH(ROW(#REF!),'Sitio 6'!arr_s,1),2)*MATCH(ROW(#REF!),'Sitio 6'!arr_s,1)
Name arr_1: MOD(MATCH(ROW(#REF!),'Sitio 7'!arr_s,1),2)*MATCH(ROW(#REF!),'Sitio 7'!arr_s,1)
Name arr_1: MOD(MATCH(ROW(#REF!),'Sitio 8'!arr_s,1),2)*MATCH(ROW(#REF!),'Sitio 8'!arr_s,1)
Name arr_1: MOD(MATCH(ROW(#REF!),'Sitio 9'!arr_s,1),2)*MATCH(ROW(#REF!),'Sitio 9'!arr_s,1)
Name arr_1: MOD(MATCH(ROW(#REF!),arr_s,1),2)*MATCH(ROW(#REF!),arr_s,1)
Name arr_2: (MOD(MATCH(ROW(#REF!),Consolidated!arr_s,1),2)=0)*MATCH(ROW(#REF!),Consolidated!arr_s,1)
Name arr_2: (MOD(MATCH(ROW(#REF!),'Sitio 10'!arr_s,1),2)=0)*MATCH(ROW(#REF!),'Sitio 10'!arr_s,1)
Name arr_2: (MOD(MATCH(ROW(#REF!),'Sitio 2'!arr_s,1),2)=0)*MATCH(ROW(#REF!),'Sitio 2'!arr_s,1)
Name arr_2: (MOD(MATCH(ROW(#REF!),'Sitio 3'!arr_s,1),2)=0)*MATCH(ROW(#REF!),'Sitio 3'!arr_s,1)
Name arr_2: (MOD(MATCH(ROW(#REF!),'Sitio 4'!arr_s,1),2)=0)*MATCH(ROW(#REF!),'Sitio 4'!arr_s,1)
Name arr_2: (MOD(MATCH(ROW(#REF!),'Sitio 5'!arr_s,1),2)=0)*MATCH(ROW(#REF!),'Sitio 5'!arr_s,1)
Name arr_2: (MOD(MATCH(ROW(#REF!),'Sitio 6'!arr_s,1),2)=0)*MATCH(ROW(#REF!),'Sitio 6'!arr_s,1)
Name arr_2: (MOD(MATCH(ROW(#REF!),'Sitio 7'!arr_s,1),2)=0)*MATCH(ROW(#REF!),'Sitio 7'!arr_s,1)
Name arr_2: (MOD(MATCH(ROW(#REF!),'Sitio 8'!arr_s,1),2)=0)*MATCH(ROW(#REF!),'Sitio 8'!arr_s,1)
Name arr_2: (MOD(MATCH(ROW(#REF!),'Sitio 9'!arr_s,1),2)=0)*MATCH(ROW(#REF!),'Sitio 9'!arr_s,1)
Name arr_2: (MOD(MATCH(ROW(#REF!),arr_s,1),2)=0)*MATCH(ROW(#REF!),arr_s,1)
Name arr_3: (MATCH(ROW(#REF!),Consolidated!arr_s,1)=Consolidated!active_row)*MATCH(ROW(#REF!),Consolidated!arr_s,1)
Name arr_3: (MATCH(ROW(#REF!),'Sitio 10'!arr_s,1)='Sitio 10'!active_row)*MATCH(ROW(#REF!),'Sitio 10'!arr_s,1)
Name arr_3: (MATCH(ROW(#REF!),'Sitio 2'!arr_s,1)='Sitio 2'!active_row)*MATCH(ROW(#REF!),'Sitio 2'!arr_s,1)
Name arr_3: (MATCH(ROW(#REF!),'Sitio 3'!arr_s,1)='Sitio 3'!active_row)*MATCH(ROW(#REF!),'Sitio 3'!arr_s,1)
Name arr_3: (MATCH(ROW(#REF!),'Sitio 4'!arr_s,1)='Sitio 4'!active_row)*MATCH(ROW(#REF!),'Sitio 4'!arr_s,1)
Name arr_3: (MATCH(ROW(#REF!),'Sitio 5'!arr_s,1)='Sitio 5'!active_row)*MATCH(ROW(#REF!),'Sitio 5'!arr_s,1)
Name arr_3: (MATCH(ROW(#REF!),'Sitio 6'!arr_s,1)='Sitio 6'!active_row)*MATCH(ROW(#REF!),'Sitio 6'!arr_s,1)
Name arr_3: (MATCH(ROW(#REF!),'Sitio 7'!arr_s,1)='Sitio 7'!active_row)*MATCH(ROW(#REF!),'Sitio 7'!arr_s,1)
Name arr_3: (MATCH(ROW(#REF!),'Sitio 8'!arr_s,1)='Sitio 8'!active_row)*MATCH(ROW(#REF!),'Sitio 8'!arr_s,1)
Name arr_3: (MATCH(ROW(#REF!),'Sitio 9'!arr_s,1)='Sitio 9'!active_row)*MATCH(ROW(#REF!),'Sitio 9'!arr_s,1)
Name arr_3: (MATCH(ROW(#REF!),arr_s,1)=active_row)*MATCH(ROW(#REF!),arr_s,1)
Name arr_c: COLUMN(OFFSET(#REF!,,,,ROWS(Consolidated!rng_h)))
Name arr_c: COLUMN(OFFSET(#REF!,,,,ROWS('Sitio 10'!rng_h)))
Name arr_c: COLUMN(OFFSET(#REF!,,,,ROWS('Sitio 2'!rng_h)))
Name arr_c: COLUMN(OFFSET(#REF!,,,,ROWS('Sitio 3'!rng_h)))
Name arr_c: COLUMN(OFFSET(#REF!,,,,ROWS('Sitio 4'!rng_h)))

Sheet Dashboard
A1: HSE Dashboard Para Varios Centros de Trabajo

Sheet Consolidated
A1: Monthly Project HSE Performance Report
A2: Project Start Date | D2: Project Code | L2: Name of Reporting HSE Person
A3: HSE KEY PERFORMANCE INDICATORS | B3: KPI - LAGGING | C3: Month | D3: Jan | E3: Feb | F3: Mar | G3: Apr | H3: May | I3: Jun | J3: Jul | K3: Aug | L3: Sep | M3: Oct | N3: Nov | O3: Dec | P3: YTD | Q3: Previous Year Cumulative | R3: Project Cumulative
C4: First Aid Case ( FAC ) | D4: =SUM('Sitio 1'!D4+'Sitio 2'!D4+'Sitio 3'!D4+'Sitio 4'!D4+'Sitio 5'!D4+'Sitio 6'!D4+'Sitio 7'!D4+'Sitio 8'!D4+'Sitio 9'!D4+'Sitio 10'!D4) -> 10 | E4: =SUM('Sitio 1'!E4+'Sitio 2'!E4+'Sitio 3'!E4+'Sitio 4'!E4+'Sitio 5'!E4+'Sitio 6'!E4+'Sitio 7'!E4+'Sitio 8'!E4+'Sitio 9'!E4+'Sitio 10'!E4) -> 10 | F4: =SUM('Sitio 1'!F4+'Sitio 2'!F4+'Sitio 3'!F4+'Sitio 4'!F4+'Sitio 5'!F4+'Sitio 6'!F4+'Sitio 7'!F4+'Sitio 8'!F4+'Sitio 9'!F4+'Sitio 10'!F4) -> 10 | G4: =SUM('Sitio 1'!G4+'Sitio 2'!G4+'Sitio 3'!G4+'Sitio 4'!G4+'Sitio 5'!G4+'Sitio 6'!G4+'Sitio 7'!G4+'Sitio 8'!G4+'Sitio 9'!G4+'Sitio 10'!G4) -> 20 | H4: =SUM('Sitio 1'!H4+'Sitio 2'!H4+'Sitio 3'!H4+'Sitio 4'!H4+'Sitio 5'!H4+'Sitio 6'!H4+'Sitio 7'!H4+'Sitio 8'!H4+'Sitio 9'!H4+'Sitio 10'!H4) -> 10 | I4: =SUM('Sitio 1'!I4+'Sitio 2'!I4+'Sitio 3'!I4+'Sitio 4'!I4+'Sitio 5'!I4+'Sitio 6'!I4+'Sitio 7'!I4+'Sitio 8'!I4+'Sitio 9'!I4+'Sitio 10'!I4) -> 20 | J4: =SUM('Sitio 1'!J4+'Sitio 2'!J4+'Sitio 3'!J4+'Sitio 4'!J4+'Sitio 5'!J4+'Sitio 6'!J4+'Sitio 7'!J4+'Sitio 8'!J4+'Sitio 9'!J4+'Sitio 10'!J4) -> 60 | K4: =SUM('Sitio 1'!K4+'Sitio 2'!K4+'Sitio 3'!K4+'Sitio 4'!K4+'Sitio 5'!K4+'Sitio 6'!K4+'Sitio 7'!K4+'Sitio 8'!K4+'Sitio 9'!K4+'Sitio 10'!K4) -> 30 | ... O4: =SUM('Sitio 1'!O4+'Sitio 2'!O4+'Sitio 3'!O4+'Sitio 4'!O4+'Sitio 5'!O4+'Sitio 6'!O4+'Sitio 7'!O4+'Sitio 8'!O4+'Sitio 9'!O4+'Sitio 10'!O4) -> 10 | P4: =SUM(D4:O4) -> 290 | Q4: =SUM('Sitio 1'!Q4+'Sitio 2'!Q4+'Sitio 3'!Q4+'Sitio 4'!Q4+'Sitio 5'!Q4+'Sitio 6'!Q4+'Sitio 7'!Q4+'Sitio 8'!Q4+'Sitio 9'!Q4+'Sitio 10'!Q4) -> 100 | R4: =P4+Q4 -> 390
C5: Medical Treatment Injury ( MTI ) | D5: =SUM('Sitio 1'!D5+'Sitio 2'!D5+'Sitio 3'!D5+'Sitio 4'!D5+'Sitio 5'!D5+'Sitio 6'!D5+'Sitio 7'!D5+'Sitio 8'!D5+'Sitio 9'!D5+'Sitio 10'!D5) -> 3 | E5: =SUM('Sitio 1'!E5+'Sitio 2'!E5+'Sitio 3'!E5+'Sitio 4'!E5+'Sitio 5'!E5+'Sitio 6'!E5+'Sitio 7'!E5+'Sitio 8'!E5+'Sitio 9'!E5+'Sitio 10'!E5) -> 2 | F5: =SUM('Sitio 1'!F5+'Sitio 2'!F5+'Sitio 3'!F5+'Sitio 4'!F5+'Sitio 5'!F5+'Sitio 6'!F5+'Sitio 7'!F5+'Sitio 8'!F5+'Sitio 9'!F5+'Sitio 10'!F5) -> 3 | G5: =SUM('Sitio 1'!G5+'Sitio 2'!G5+'Sitio 3'!G5+'Sitio 4'!G5+'Sitio 5'!G5+'Sitio 6'!G5+'Sitio 7'!G5+'Sitio 8'!G5+'Sitio 9'!G5+'Sitio 10'!G5) -> 2 | H5: =SUM('Sitio 1'!H5+'Sitio 2'!H5+'Sitio 3'!H5+'Sitio 4'!H5+'Sitio 5'!H5+'Sitio 6'!H5+'Sitio 7'!H5+'Sitio 8'!H5+'Sitio 9'!H5+'Sitio 10'!H5) -> 2 | I5: =SUM('Sitio 1'!I5+'Sitio 2'!I5+'Sitio 3'!I5+'Sitio 4'!I5+'Sitio 5'!I5+'Sitio 6'!I5+'Sitio 7'!I5+'Sitio 8'!I5+'Sitio 9'!I5+'Sitio 10'!I5) -> 3 | J5: =SUM('Sitio 1'!J5+'Sitio 2'!J5+'Sitio 3'!J5+'Sitio 4'!J5+'Sitio 5'!J5+'Sitio 6'!J5+'Sitio 7'!J5+'Sitio 8'!J5+'Sitio 9'!J5+'Sitio 10'!J5) -> 3 | K5: =SUM('Sitio 1'!K5+'Sitio 2'!K5+'Sitio 3'!K5+'Sitio 4'!K5+'Sitio 5'!K5+'Sitio 6'!K5+'Sitio 7'!K5+'Sitio 8'!K5+'Sitio 9'!K5+'Sitio 10'!K5) -> 2 | ... O5: =SUM('Sitio 1'!O5+'Sitio 2'!O5+'Sitio 3'!O5+'Sitio 4'!O5+'Sitio 5'!O5+'Sitio 6'!O5+'Sitio 7'!O5+'Sitio 8'!O5+'Sitio 9'!O5+'Sitio 10'!O5) -> 2 | P5: =SUM(D5:O5) -> 26 | Q5: =SUM('Sitio 1'!Q5+'Sitio 2'!Q5+'Sitio 3'!Q5+'Sitio 4'!Q5+'Sitio 5'!Q5+'Sitio 6'!Q5+'Sitio 7'!Q5+'Sitio 8'!Q5+'Sitio 9'!Q5+'Sitio 10'!Q5) -> 0 | R5: =P5+Q5 -> 26
C6: Restricted work Injury (RWI ) | D6: =SUM('Sitio 1'!D6+'Sitio 2'!D6+'Sitio 3'!D6+'Sitio 4'!D6+'Sitio 5'!D6+'Sitio 6'!D6+'Sitio 7'!D6+'Sitio 8'!D6+'Sitio 9'!D6+'Sitio 10'!D6) -> 1 | E6: =SUM('Sitio 1'!E6+'Sitio 2'!E6+'Sitio 3'!E6+'Sitio 4'!E6+'Sitio 5'!E6+'Sitio 6'!E6+'Sitio 7'!E6+'Sitio 8'!E6+'Sitio 9'!E6+'Sitio 10'!E6) -> 1 | F6: =SUM('Sitio 1'!F6+'Sitio 2'!F6+'Sitio 3'!F6+'Sitio 4'!F6+'Sitio 5'!F6+'Sitio 6'!F6+'Sitio 7'!F6+'Sitio 8'!F6+'Sitio 9'!F6+'Sitio 10'!F6) -> 1 | G6: =SUM('Sitio 1'!G6+'Sitio 2'!G6+'Sitio 3'!G6+'Sitio 4'!G6+'Sitio 5'!G6+'Sitio 6'!G6+'Sitio 7'!G6+'Sitio 8'!G6+'Sitio 9'!G6+'Sitio 10'!G6) -> 2 | H6: =SUM('Sitio 1'!H6+'Sitio 2'!H6+'Sitio 3'!H6+'Sitio 4'!H6+'Sitio 5'!H6+'Sitio 6'!H6+'Sitio 7'!H6+'Sitio 8'!H6+'Sitio 9'!H6+'Sitio 10'!H6) -> 1 | I6: =SUM('Sitio 1'!I6+'Sitio 2'!I6+'Sitio 3'!I6+'Sitio 4'!I6+'Sitio 5'!I6+'Sitio 6'!I6+'Sitio 7'!I6+'Sitio 8'!I6+'Sitio 9'!I6+'Sitio 10'!I6) -> 2 | J6: =SUM('Sitio 1'!J6+'Sitio 2'!J6+'Sitio 3'!J6+'Sitio 4'!J6+'Sitio 5'!J6+'Sitio 6'!J6+'Sitio 7'!J6+'Sitio 8'!J6+'Sitio 9'!J6+'Sitio 10'!J6) -> 2 | K6: =SUM('Sitio 1'!K6+'Sitio 2'!K6+'Sitio 3'!K6+'Sitio 4'!K6+'Sitio 5'!K6+'Sitio 6'!K6+'Sitio 7'!K6+'Sitio 8'!K6+'Sitio 9'!K6+'Sitio 10'!K6) -> 0 | ... O6: =SUM('Sitio 1'!O6+'Sitio 2'!O6+'Sitio 3'!O6+'Sitio 4'!O6+'Sitio 5'!O6+'Sitio 6'!O6+'Sitio 7'!O6+'Sitio 8'!O6+'Sitio 9'!O6+'Sitio 10'!O6) -> 0 | P6: =SUM(D6:O6) -> 13 | Q6: =SUM('Sitio 1'!Q6+'Sitio 2'!Q6+'Sitio 3'!Q6+'Sitio 4'!Q6+'Sitio 5'!Q6+'Sitio 6'!Q6+'Sitio 7'!Q6+'Sitio 8'!Q6+'Sitio 9'!Q6+'Sitio 10'!Q6) -> 0 | R6: =P6+Q6 -> 13
C7: Lost Time Injury ( LTI ) | D7: =SUM('Sitio 1'!D7+'Sitio 2'!D7+'Sitio 3'!D7+'Sitio 4'!D7+'Sitio 5'!D7+'Sitio 6'!D7+'Sitio 7'!D7+'Sitio 8'!D7+'Sitio 9'!D7+'Sitio 10'!D7) -> 2 | E7: =SUM('Sitio 1'!E7+'Sitio 2'!E7+'Sitio 3'!E7+'Sitio 4'!E7+'Sitio 5'!E7+'Sitio 6'!E7+'Sitio 7'!E7+'Sitio 8'!E7+'Sitio 9'!E7+'Sitio 10'!E7) -> 2 | F7: =SUM('Sitio 1'!F7+'Sitio 2'!F7+'Sitio 3'!F7+'Sitio 4'!F7+'Sitio 5'!F7+'Sitio 6'!F7+'Sitio 7'!F7+'Sitio 8'!F7+'Sitio 9'!F7+'Sitio 10'!F7) -> 0 | G7: =SUM('Sitio 1'!G7+'Sitio 2'!G7+'Sitio 3'!G7+'Sitio 4'!G7+'Sitio 5'!G7+'Sitio 6'!G7+'Sitio 7'!G7+'Sitio 8'!G7+'Sitio 9'!G7+'Sitio 10'!G7) -> 1 | H7: =SUM('Sitio 1'!H7+'Sitio 2'!H7+'Sitio 3'!H7+'Sitio 4'!H7+'Sitio 5'!H7+'Sitio 6'!H7+'Sitio 7'!H7+'Sitio 8'!H7+'Sitio 9'!H7+'Sitio 10'!H7) -> 1 | I7: =SUM('Sitio 1'!I7+'Sitio 2'!I7+'Sitio 3'!I7+'Sitio 4'!I7+'Sitio 5'!I7+'Sitio 6'!I7+'Sitio 7'!I7+'Sitio 8'!I7+'Sitio 9'!I7+'Sitio 10'!I7) -> 0 | J7: =SUM('Sitio 1'!J7+'Sitio 2'!J7+'Sitio 3'!J7+'Sitio 4'!J7+'Sitio 5'!J7+'Sitio 6'!J7+'Sitio 7'!J7+'Sitio 8'!J7+'Sitio 9'!J7+'Sitio 10'!J7) -> 0 | K7: =SUM('Sitio 1'!K7+'Sitio 2'!K7+'Sitio 3'!K7+'Sitio 4'!K7+'Sitio 5'!K7+'Sitio 6'!K7+'Sitio 7'!K7+'Sitio 8'!K7+'Sitio 9'!K7+'Sitio 10'!K7) -> 0 | ... O7: =SUM('Sitio 1'!O7+'Sitio 2'!O7+'Sitio 3'!O7+'Sitio 4'!O7+'Sitio 5'!O7+'Sitio 6'!O7+'Sitio 7'!O7+'Sitio 8'!O7+'Sitio 9'!O7+'Sitio 10'!O7) -> 0 | P7: =SUM(D7:O7) -> 6 | Q7: =SUM('Sitio 1'!Q7+'Sitio 2'!Q7+'Sitio 3'!Q7+'Sitio 4'!Q7+'Sitio 5'!Q7+'Sitio 6'!Q7+'Sitio 7'!Q7+'Sitio 8'!Q7+'Sitio 9'!Q7+'Sitio 10'!Q7) -> 0 | R7: =P7+Q7 -> 6
C8: Number of lost workdays | D8: =SUM('Sitio 1'!D8+'Sitio 2'!D8+'Sitio 3'!D8+'Sitio 4'!D8+'Sitio 5'!D8+'Sitio 6'!D8+'Sitio 7'!D8+'Sitio 8'!D8+'Sitio 9'!D8+'Sitio 10'!D8) -> 2 | E8: =SUM('Sitio 1'!E8+'Sitio 2'!E8+'Sitio 3'!E8+'Sitio 4'!E8+'Sitio 5'!E8+'Sitio 6'!E8+'Sitio 7'!E8+'Sitio 8'!E8+'Sitio 9'!E8+'Sitio 10'!E8) -> 2 | F8: =SUM('Sitio 1'!F8+'Sitio 2'!F8+'Sitio 3'!F8+'Sitio 4'!F8+'Sitio 5'!F8+'Sitio 6'!F8+'Sitio 7'!F8+'Sitio 8'!F8+'Sitio 9'!F8+'Sitio 10'!F8) -> 3 | G8: =SUM('Sitio 1'!G8+'Sitio 2'!G8+'Sitio 3'!G8+'Sitio 4'!G8+'Sitio 5'!G8+'Sitio 6'!G8+'Sitio 7'!G8+'Sitio 8'!G8+'Sitio 9'!G8+'Sitio 10'!G8) -> 1 | H8: =SUM('Sitio 1'!H8+'Sitio 2'!H8+'Sitio 3'!H8+'Sitio 4'!H8+'Sitio 5'!H8+'Sitio 6'!H8+'Sitio 7'!H8+'Sitio 8'!H8+'Sitio 9'!H8+'Sitio 10'!H8) -> 1 | I8: =SUM('Sitio 1'!I8+'Sitio 2'!I8+'Sitio 3'!I8+'Sitio 4'!I8+'Sitio 5'!I8+'Sitio 6'!I8+'Sitio 7'!I8+'Sitio 8'!I8+'Sitio 9'!I8+'Sitio 10'!I8) -> 0 | J8: =SUM('Sitio 1'!J8+'Sitio 2'!J8+'Sitio 3'!J8+'Sitio 4'!J8+'Sitio 5'!J8+'Sitio 6'!J8+'Sitio 7'!J8+'Sitio 8'!J8+'Sitio 9'!J8+'Sitio 10'!J8) -> 0 | K8: =SUM('Sitio 1'!K8+'Sitio 2'!K8+'Sitio 3'!K8+'Sitio 4'!K8+'Sitio 5'!K8+'Sitio 6'!K8+'Sitio 7'!K8+'Sitio 8'!K8+'Sitio 9'!K8+'Sitio 10'!K8) -> 0 | ... O8: =SUM('Sitio 1'!O8+'Sitio 2'!O8+'Sitio 3'!O8+'Sitio 4'!O8+'Sitio 5'!O8+'Sitio 6'!O8+'Sitio 7'!O8+'Sitio 8'!O8+'Sitio 9'!O8+'Sitio 10'!O8) -> 0 | P8: =SUM(D8:O8) -> 9 | Q8: =SUM('Sitio 1'!Q8+'Sitio 2'!Q8+'Sitio 3'!Q8+'Sitio 4'!Q8+'Sitio 5'!Q8+'Sitio 6'!Q8+'Sitio 7'!Q8+'Sitio 8'!Q8+'Sitio 9'!Q8+'Sitio 10'!Q8) -> 0 | R8: =P8+Q8 -> 9
C9: Fatal Incidents | D9: =SUM('Sitio 1'!D9+'Sitio 2'!D9+'Sitio 3'!D9+'Sitio 4'!D9+'Sitio 5'!D9+'Sitio 6'!D9+'Sitio 7'!D9+'Sitio 8'!D9+'Sitio 9'!D9+'Sitio 10'!D9) -> 2 | E9: =SUM('Sitio 1'!E9+'Sitio 2'!E9+'Sitio 3'!E9+'Sitio 4'!E9+'Sitio 5'!E9+'Sitio 6'!E9+'Sitio 7'!E9+'Sitio 8'!E9+'Sitio 9'!E9+'Sitio 10'!E9) -> 0 | F9: =SUM('Sitio 1'!F9+'Sitio 2'!F9+'Sitio 3'!F9+'Sitio 4'!F9+'Sitio 5'!F9+'Sitio 6'!F9+'Sitio 7'!F9+'Sitio 8'!F9+'Sitio 9'!F9+'Sitio 10'!F9) -> 1 | G9: =SUM('Sitio 1'!G9+'Sitio 2'!G9+'Sitio 3'!G9+'Sitio 4'!G9+'Sitio 5'!G9+'Sitio 6'!G9+'Sitio 7'!G9+'Sitio 8'!G9+'Sitio 9'!G9+'Sitio 10'!G9) -> 1 | H9: =SUM('Sitio 1'!H9+'Sitio 2'!H9+'Sitio 3'!H9+'Sitio 4'!H9+'Sitio 5'!H9+'Sitio 6'!H9+'Sitio 7'!H9+'Sitio 8'!H9+'Sitio 9'!H9+'Sitio 10'!H9) -> 1 | I9: =SUM('Sitio 1'!I9+'Sitio 2'!I9+'Sitio 3'!I9+'Sitio 4'!I9+'Sitio 5'!I9+'Sitio 6'!I9+'Sitio 7'!I9+'Sitio 8'!I9+'Sitio 9'!I9+'Sitio 10'!I9) -> 0 | J9: =SUM('Sitio 1'!J9+'Sitio 2'!J9+'Sitio 3'!J9+'Sitio 4'!J9+'Sitio 5'!J9+'Sitio 6'!J9+'Sitio 7'!J9+'Sitio 8'!J9+'Sitio 9'!J9+'Sitio 10'!J9) -> 0 | K9: =SUM('Sitio 1'!K9+'Sitio 2'!K9+'Sitio 3'!K9+'Sitio 4'!K9+'Sitio 5'!K9+'Sitio 6'!K9+'Sitio 7'!K9+'Sitio 8'!K9+'Sitio 9'!K9+'Sitio 10'!K9) -> 0 | ... O9: =SUM('Sitio 1'!O9+'Sitio 2'!O9+'Sitio 3'!O9+'Sitio 4'!O9+'Sitio 5'!O9+'Sitio 6'!O9+'Sitio 7'!O9+'Sitio 8'!O9+'Sitio 9'!O9+'Sitio 10'!O9) -> 0 | P9: =SUM(D9:O9) -> 5 | Q9: =SUM('Sitio 1'!Q9+'Sitio 2'!Q9+'Sitio 3'!Q9+'Sitio 4'!Q9+'Sitio 5'!Q9+'Sitio 6'!Q9+'Sitio 7'!Q9+'Sitio 8'!Q9+'Sitio 9'!Q9+'Sitio 10'!Q9) -> 0 | R9: =P9+Q9 -> 5
C10: Road Traffic Incident ( RTI ) | D10: =SUM('Sitio 1'!D10+'Sitio 2'!D10+'Sitio 3'!D10+'Sitio 4'!D10+'Sitio 5'!D10+'Sitio 6'!D10+'Sitio 7'!D10+'Sitio 8'!D10+'Sitio 9'!D10+'Sitio 10'!D10) -> 1 | E10: =SUM('Sitio 1'!E10+'Sitio 2'!E10+'Sitio 3'!E10+'Sitio 4'!E10+'Sitio 5'!E10+'Sitio 6'!E10+'Sitio 7'!E10+'Sitio 8'!E10+'Sitio 9'!E10+'Sitio 10'!E10) -> 2 | F10: =SUM('Sitio 1'!F10+'Sitio 2'!F10+'Sitio 3'!F10+'Sitio 4'!F10+'Sitio 5'!F10+'Sitio 6'!F10+'Sitio 7'!F10+'Sitio 8'!F10+'Sitio 9'!F10+'Sitio 10'!F10) -> 2 | G10: =SUM('Sitio 1'!G10+'Sitio 2'!G10+'Sitio 3'!G10+'Sitio 4'!G10+'Sitio 5'!G10+'Sitio 6'!G10+'Sitio 7'!G10+'Sitio 8'!G10+'Sitio 9'!G10+'Sitio 10'!G10) -> 1 | H10: =SUM('Sitio 1'!H10+'Sitio 2'!H10+'Sitio 3'!H10+'Sitio 4'!H10+'Sitio 5'!H10+'Sitio 6'!H10+'Sitio 7'!H10+'Sitio 8'!H10+'Sitio 9'!H10+'Sitio 10'!H10) -> 1 | I10: =SUM('Sitio 1'!I10+'Sitio 2'!I10+'Sitio 3'!I10+'Sitio 4'!I10+'Sitio 5'!I10+'Sitio 6'!I10+'Sitio 7'!I10+'Sitio 8'!I10+'Sitio 9'!I10+'Sitio 10'!I10) -> 0 | J10: =SUM('Sitio 1'!J10+'Sitio 2'!J10+'Sitio 3'!J10+'Sitio 4'!J10+'Sitio 5'!J10+'Sitio 6'!J10+'Sitio 7'!J10+'Sitio 8'!J10+'Sitio 9'!J10+'Sitio 10'!J10) -> 0 | K10: =SUM('Sitio 1'!K10+'Sitio 2'!K10+'Sitio 3'!K10+'Sitio 4'!K10+'Sitio 5'!K10+'Sitio 6'!K10+'Sitio 7'!K10+'Sitio 8'!K10+'Sitio 9'!K10+'Sitio 10'!K10) -> 0 | ... O10: =SUM('Sitio 1'!O10+'Sitio 2'!O10+'Sitio 3'!O10+'Sitio 4'!O10+'Sitio 5'!O10+'Sitio 6'!O10+'Sitio 7'!O10+'Sitio 8'!O10+'Sitio 9'!O10+'Sitio 10'!O10) -> 0 | P10: =SUM(D10:O10) -> 7 | Q10: =SUM('Sitio 1'!Q10+'Sitio 2'!Q10+'Sitio 3'!Q10+'Sitio 4'!Q10+'Sitio 5'!Q10+'Sitio 6'!Q10+'Sitio 7'!Q10+'Sitio 8'!Q10+'Sitio 9'!Q10+'Sitio 10'!Q10) -> 0 | R10: =P10+Q10 -> 7
C11: Property Damage Incident ( PDI ) | D11: =SUM('Sitio 1'!D11+'Sitio 2'!D11+'Sitio 3'!D11+'Sitio 4'!D11+'Sitio 5'!D11+'Sitio 6'!D11+'Sitio 7'!D11+'Sitio 8'!D11+'Sitio 9'!D11+'Sitio 10'!D11) -> 1 | E11: =SUM('Sitio 1'!E11+'Sitio 2'!E11+'Sitio 3'!E11+'Sitio 4'!E11+'Sitio 5'!E11+'Sitio 6'!E11+'Sitio 7'!E11+'Sitio 8'!E11+'Sitio 9'!E11+'Sitio 10'!E11) -> 1 | F11: =SUM('Sitio 1'!F11+'Sitio 2'!F11+'Sitio 3'!F11+'Sitio 4'!F11+'Sitio 5'!F11+'Sitio 6'!F11+'Sitio 7'!F11+'Sitio 8'!F11+'Sitio 9'!F11+'Sitio 10'!F11) -> 1 | G11: =SUM('Sitio 1'!G11+'Sitio 2'!G11+'Sitio 3'!G11+'Sitio 4'!G11+'Sitio 5'!G11+'Sitio 6'!G11+'Sitio 7'!G11+'Sitio 8'!G11+'Sitio 9'!G11+'Sitio 10'!G11) -> 0 | H11: =SUM('Sitio 1'!H11+'Sitio 2'!H11+'Sitio 3'!H11+'Sitio 4'!H11+'Sitio 5'!H11+'Sitio 6'!H11+'Sitio 7'!H11+'Sitio 8'!H11+'Sitio 9'!H11+'Sitio 10'!H11) -> 2 | I11: =SUM('Sitio 1'!I11+'Sitio 2'!I11+'Sitio 3'!I11+'Sitio 4'!I11+'Sitio 5'!I11+'Sitio 6'!I11+'Sitio 7'!I11+'Sitio 8'!I11+'Sitio 9'!I11+'Sitio 10'!I11) -> 3 | J11: =SUM('Sitio 1'!J11+'Sitio 2'!J11+'Sitio 3'!J11+'Sitio 4'!J11+'Sitio 5'!J11+'Sitio 6'!J11+'Sitio 7'!J11+'Sitio 8'!J11+'Sitio 9'!J11+'Sitio 10'!J11) -> 3 | K11: =SUM('Sitio 1'!K11+'Sitio 2'!K11+'Sitio 3'!K11+'Sitio 4'!K11+'Sitio 5'!K11+'Sitio 6'!K11+'Sitio 7'!K11+'Sitio 8'!K11+'Sitio 9'!K11+'Sitio 10'!K11) -> 0 | ... O11: =SUM('Sitio 1'!O11+'Sitio 2'!O11+'Sitio 3'!O11+'Sitio 4'!O11+'Sitio 5'!O11+'Sitio 6'!O11+'Sitio 7'!O11+'Sitio 8'!O11+'Sitio 9'!O11+'Sitio 10'!O11) -> 0 | P11: =SUM(D11:O11) -> 21 | Q11: =SUM('Sitio 1'!Q11+'Sitio 2'!Q11+'Sitio 3'!Q11+'Sitio 4'!Q11+'Sitio 5'!Q11+'Sitio 6'!Q11+'Sitio 7'!Q11+'Sitio 8'!Q11+'Sitio 9'!Q11+'Sitio 10'!Q11) -> 0 | R11: =P11+Q11 -> 21
C12: Environmental Incidents | D12: =SUM('Sitio 1'!D12+'Sitio 2'!D12+'Sitio 3'!D12+'Sitio 4'!D12+'Sitio 5'!D12+'Sitio 6'!D12+'Sitio 7'!D12+'Sitio 8'!D12+'Sitio 9'!D12+'Sitio 10'!D12) -> 0 | E12: =SUM('Sitio 1'!E12+'Sitio 2'!E12+'Sitio 3'!E12+'Sitio 4'!E12+'Sitio 5'!E12+'Sitio 6'!E12+'Sitio 7'!E12+'Sitio 8'!E12+'Sitio 9'!E12+'Sitio 10'!E12) -> 0 | F12: =SUM('Sitio 1'!F12+'Sitio 2'!F12+'Sitio 3'!F12+'Sitio 4'!F12+'Sitio 5'!F12+'Sitio 6'!F12+'Sitio 7'!F12+'Sitio 8'!F12+'Sitio 9'!F12+'Sitio 10'!F12) -> 0 | G12: =SUM('Sitio 1'!G12+'Sitio 2'!G12+'Sitio 3'!G12+'Sitio 4'!G12+'Sitio 5'!G12+'Sitio 6'!G12+'Sitio 7'!G12+'Sitio 8'!G12+'Sitio 9'!G12+'Sitio 10'!G12) -> 10 | H12: =SUM('Sitio 1'!H12+'Sitio 2'!H12+'Sitio 3'!H12+'Sitio 4'!H12+'Sitio 5'!H12+'Sitio 6'!H12+'Sitio 7'!H12+'Sitio 8'!H12+'Sitio 9'!H12+'Sitio 10'!H12) -> 0 | I12: =SUM('Sitio 1'!I12+'Sitio 2'!I12+'Sitio 3'!I12+'Sitio 4'!I12+'Sitio 5'!I12+'Sitio 6'!I12+'Sitio 7'!I12+'Sitio 8'!I12+'Sitio 9'!I12+'Sitio 10'!I12) -> 0 | J12: =SUM('Sitio 1'!J12+'Sitio 2'!J12+'Sitio 3'!J12+'Sitio 4'!J12+'Sitio 5'!J12+'Sitio 6'!J12+'Sitio 7'!J12+'Sitio 8'!J12+'Sitio 9'!J12+'Sitio 10'!J12) -> 0 | K12: =SUM('Sitio 1'!K12+'Sitio 2'!K12+'Sitio 3'!K12+'Sitio 4'!K12+'Sitio 5'!K12+'Sitio 6'!K12+'Sitio 7'!K12+'Sitio 8'!K12+'Sitio 9'!K12+'Sitio 10'!K12) -> 0 | ... O12: =SUM('Sitio 1'!O12+'Sitio 2'!O12+'Sitio 3'!O12+'Sitio 4'!O12+'Sitio 5'!O12+'Sitio 6'!O12+'Sitio 7'!O12+'Sitio 8'!O12+'Sitio 9'!O12+'Sitio 10'!O12) -> 0 | P12: =SUM(D12:O12) -> 20 | Q12: =SUM('Sitio 1'!Q12+'Sitio 2'!Q12+'Sitio 3'!Q12+'Sitio 4'!Q12+'Sitio 5'!Q12+'Sitio 6'!Q12+'Sitio 7'!Q12+'Sitio 8'!Q12+'Sitio 9'!Q12+'Sitio 10'!Q12) -> 20 | R12: =P12+Q12 -> 40
C13: Number of Client HSE observation - Raised | D13: =SUM('Sitio 1'!D13+'Sitio 2'!D13+'Sitio 3'!D13+'Sitio 4'!D13+'Sitio 5'!D13+'Sitio 6'!D13+'Sitio 7'!D13+'Sitio 8'!D13+'Sitio 9'!D13+'Sitio 10'!D13) -> 20 | E13: =SUM('Sitio 1'!E13+'Sitio 2'!E13+'Sitio 3'!E13+'Sitio 4'!E13+'Sitio 5'!E13+'Sitio 6'!E13+'Sitio 7'!E13+'Sitio 8'!E13+'Sitio 9'!E13+'Sitio 10'!E13) -> 50 | F13: =SUM('Sitio 1'!F13+'Sitio 2'!F13+'Sitio 3'!F13+'Sitio 4'!F13+'Sitio 5'!F13+'Sitio 6'!F13+'Sitio 7'!F13+'Sitio 8'!F13+'Sitio 9'!F13+'Sitio 10'!F13) -> 30 | G13: =SUM('Sitio 1'!G13+'Sitio 2'!G13+'Sitio 3'!G13+'Sitio 4'!G13+'Sitio 5'!G13+'Sitio 6'!G13+'Sitio 7'!G13+'Sitio 8'!G13+'Sitio 9'!G13+'Sitio 10'!G13) -> 40 | H13: =SUM('Sitio 1'!H13+'Sitio 2'!H13+'Sitio 3'!H13+'Sitio 4'!H13+'Sitio 5'!H13+'Sitio 6'!H13+'Sitio 7'!H13+'Sitio 8'!H13+'Sitio 9'!H13+'Sitio 10'!H13) -> 70 | I13: =SUM('Sitio 1'!I13+'Sitio 2'!I13+'Sitio 3'!I13+'Sitio 4'!I13+'Sitio 5'!I13+'Sitio 6'!I13+'Sitio 7'!I13+'Sitio 8'!I13+'Sitio 9'!I13+'Sitio 10'!I13) -> 10 | J13: =SUM('Sitio 1'!J13+'Sitio 2'!J13+'Sitio 3'!J13+'Sitio 4'!J13+'Sitio 5'!J13+'Sitio 6'!J13+'Sitio 7'!J13+'Sitio 8'!J13+'Sitio 9'!J13+'Sitio 10'!J13) -> 30 | K13: =SUM('Sitio 1'!K13+'Sitio 2'!K13+'Sitio 3'!K13+'Sitio 4'!K13+'Sitio 5'!K13+'Sitio 6'!K13+'Sitio 7'!K13+'Sitio 8'!K13+'Sitio 9'!K13+'Sitio 10'!K13) -> 60 | ... O13: =SUM('Sitio 1'!O13+'Sitio 2'!O13+'Sitio 3'!O13+'Sitio 4'!O13+'Sitio 5'!O13+'Sitio 6'!O13+'Sitio 7'!O13+'Sitio 8'!O13+'Sitio 9'!O13+'Sitio 10'!O13) -> 10 | P13: =SUM(D13:O13) -> 470 | Q13: =SUM('Sitio 1'!Q13+'Sitio 2'!Q13+'Sitio 3'!Q13+'Sitio 4'!Q13+'Sitio 5'!Q13+'Sitio 6'!Q13+'Sitio 7'!Q13+'Sitio 8'!Q13+'Sitio 9'!Q13+'Sitio 10'!Q13) -> 2600 | R13: =P13+Q13 -> 3070
C14: Number of Internal HSE observation - Raised | D14: =SUM('Sitio 1'!D14+'Sitio 2'!D14+'Sitio 3'!D14+'Sitio 4'!D14+'Sitio 5'!D14+'Sitio 6'!D14+'Sitio 7'!D14+'Sitio 8'!D14+'Sitio 9'!D14+'Sitio 10'!D14) -> 20 | E14: =SUM('Sitio 1'!E14+'Sitio 2'!E14+'Sitio 3'!E14+'Sitio 4'!E14+'Sitio 5'!E14+'Sitio 6'!E14+'Sitio 7'!E14+'Sitio 8'!E14+'Sitio 9'!E14+'Sitio 10'!E14) -> 50 | F14: =SUM('Sitio 1'!F14+'Sitio 2'!F14+'Sitio 3'!F14+'Sitio 4'!F14+'Sitio 5'!F14+'Sitio 6'!F14+'Sitio 7'!F14+'Sitio 8'!F14+'Sitio 9'!F14+'Sitio 10'!F14) -> 30 | G14: =SUM('Sitio 1'!G14+'Sitio 2'!G14+'Sitio 3'!G14+'Sitio 4'!G14+'Sitio 5'!G14+'Sitio 6'!G14+'Sitio 7'!G14+'Sitio 8'!G14+'Sitio 9'!G14+'Sitio 10'!G14) -> 40 | H14: =SUM('Sitio 1'!H14+'Sitio 2'!H14+'Sitio 3'!H14+'Sitio 4'!H14+'Sitio 5'!H14+'Sitio 6'!H14+'Sitio 7'!H14+'Sitio 8'!H14+'Sitio 9'!H14+'Sitio 10'!H14) -> 70 | I14: =SUM('Sitio 1'!I14+'Sitio 2'!I14+'Sitio 3'!I14+'Sitio 4'!I14+'Sitio 5'!I14+'Sitio 6'!I14+'Sitio 7'!I14+'Sitio 8'!I14+'Sitio 9'!I14+'Sitio 10'!I14) -> 10 | J14: =SUM('Sitio 1'!J14+'Sitio 2'!J14+'Sitio 3'!J14+'Sitio 4'!J14+'Sitio 5'!J14+'Sitio 6'!J14+'Sitio 7'!J14+'Sitio 8'!J14+'Sitio 9'!J14+'Sitio 10'!J14) -> 30 | K14: =SUM('Sitio 1'!K14+'Sitio 2'!K14+'Sitio 3'!K14+'Sitio 4'!K14+'Sitio 5'!K14+'Sitio 6'!K14+'Sitio 7'!K14+'Sitio 8'!K14+'Sitio 9'!K14+'Sitio 10'!K14) -> 60 | ... O14: =SUM('Sitio 1'!O14+'Sitio 2'!O14+'Sitio 3'!O14+'Sitio 4'!O14+'Sitio 5'!O14+'Sitio 6'!O14+'Sitio 7'!O14+'Sitio 8'!O14+'Sitio 9'!O14+'Sitio 10'!O14) -> 10 | P14: =SUM(D14:O14) -> 470 | Q14: =SUM('Sitio 1'!Q14+'Sitio 2'!Q14+'Sitio 3'!Q14+'Sitio 4'!Q14+'Sitio 5'!Q14+'Sitio 6'!Q14+'Sitio 7'!Q14+'Sitio 8'!Q14+'Sitio 9'!Q14+'Sitio 10'!Q14) -> 2500 | R14: =P14+Q14 -> 2970
B15: KPI - LEADING | C15: Total Man Hours worked | D15: =SUM('Sitio 1'!D16+'Sitio 2'!D16+'Sitio 3'!D16+'Sitio 4'!D16+'Sitio 5'!D16+'Sitio 6'!D16+'Sitio 7'!D16+'Sitio 8'!D16+'Sitio 9'!D16+'Sitio 10'!D16) -> 250000 | E15: =SUM('Sitio 1'!E16+'Sitio 2'!E16+'Sitio 3'!E16+'Sitio 4'!E16+'Sitio 5'!E16+'Sitio 6'!E16+'Sitio 7'!E16+'Sitio 8'!E16+'Sitio 9'!E16+'Sitio 10'!E16) -> 350000 | F15: =SUM('Sitio 1'!F16+'Sitio 2'!F16+'Sitio 3'!F16+'Sitio 4'!F16+'Sitio 5'!F16+'Sitio 6'!F16+'Sitio 7'!F16+'Sitio 8'!F16+'Sitio 9'!F16+'Sitio 10'!F16) -> 450000 | G15: =SUM('Sitio 1'!G16+'Sitio 2'!G16+'Sitio 3'!G16+'Sitio 4'!G16+'Sitio 5'!G16+'Sitio 6'!G16+'Sitio 7'!G16+'Sitio 8'!G16+'Sitio 9'!G16+'Sitio 10'!G16) -> 550000 | H15: =SUM('Sitio 1'!H16+'Sitio 2'!H16+'Sitio 3'!H16+'Sitio 4'!H16+'Sitio 5'!H16+'Sitio 6'!H16+'Sitio 7'!H16+'Sitio 8'!H16+'Sitio 9'!H16+'Sitio 10'!H16) -> 650000 | I15: =SUM('Sitio 1'!I16+'Sitio 2'!I16+'Sitio 3'!I16+'Sitio 4'!I16+'Sitio 5'!I16+'Sitio 6'!I16+'Sitio 7'!I16+'Sitio 8'!I16+'Sitio 9'!I16+'Sitio 10'!I16) -> 750000 | J15: =SUM('Sitio 1'!J16+'Sitio 2'!J16+'Sitio 3'!J16+'Sitio 4'!J16+'Sitio 5'!J16+'Sitio 6'!J16+'Sitio 7'!J16+'Sitio 8'!J16+'Sitio 9'!J16+'Sitio 10'!J16) -> 850000 | K15: =SUM('Sitio 1'!K16+'Sitio 2'!K16+'Sitio 3'!K16+'Sitio 4'!K16+'Sitio 5'!K16+'Sitio 6'!K16+'Sitio 7'!K16+'Sitio 8'!K16+'Sitio 9'!K16+'Sitio 10'!K16) -> 950000 | ... O15: =SUM('Sitio 1'!O16+'Sitio 2'!O16+'Sitio 3'!O16+'Sitio 4'!O16+'Sitio 5'!O16+'Sitio 6'!O16+'Sitio 7'!O16+'Sitio 8'!O16+'Sitio 9'!O16+'Sitio 10'!O16) -> 2500000 | P15: =SUM(D15:O15) -> 11800000 | Q15: =SUM('Sitio 1'!Q15+'Sitio 2'!Q15+'Sitio 3'!Q15+'Sitio 4'!Q15+'Sitio 5'!Q15+'Sitio 6'!Q15+'Sitio 7'!Q15+'Sitio 8'!Q15+'Sitio 9'!Q15+'Sitio 10'!Q15) -> 11500000 | R15: =P15+Q15 -> 23300000
C16: Safe Man Hours Worked Without LTI | D16: =SUM('Sitio 1'!D17+'Sitio 2'!D17+'Sitio 3'!D17+'Sitio 4'!D17+'Sitio 5'!D17+'Sitio 6'!D17+'Sitio 7'!D17+'Sitio 8'!D17+'Sitio 9'!D17+'Sitio 10'!D17) -> 2500 | E16: =SUM('Sitio 1'!E17+'Sitio 2'!E17+'Sitio 3'!E17+'Sitio 4'!E17+'Sitio 5'!E17+'Sitio 6'!E17+'Sitio 7'!E17+'Sitio 8'!E17+'Sitio 9'!E17+'Sitio 10'!E17) -> 2000 | F16: =SUM('Sitio 1'!F17+'Sitio 2'!F17+'Sitio 3'!F17+'Sitio 4'!F17+'Sitio 5'!F17+'Sitio 6'!F17+'Sitio 7'!F17+'Sitio 8'!F17+'Sitio 9'!F17+'Sitio 10'!F17) -> 2500 | G16: =SUM('Sitio 1'!G17+'Sitio 2'!G17+'Sitio 3'!G17+'Sitio 4'!G17+'Sitio 5'!G17+'Sitio 6'!G17+'Sitio 7'!G17+'Sitio 8'!G17+'Sitio 9'!G17+'Sitio 10'!G17) -> 2500 | H16: =SUM('Sitio 1'!H17+'Sitio 2'!H17+'Sitio 3'!H17+'Sitio 4'!H17+'Sitio 5'!H17+'Sitio 6'!H17+'Sitio 7'!H17+'Sitio 8'!H17+'Sitio 9'!H17+'Sitio 10'!H17) -> 2500 | I16: =SUM('Sitio 1'!I17+'Sitio 2'!I17+'Sitio 3'!I17+'Sitio 4'!I17+'Sitio 5'!I17+'Sitio 6'!I17+'Sitio 7'!I17+'Sitio 8'!I17+'Sitio 9'!I17+'Sitio 10'!I17) -> 2200 | J16: =SUM('Sitio 1'!J17+'Sitio 2'!J17+'Sitio 3'!J17+'Sitio 4'!J17+'Sitio 5'!J17+'Sitio 6'!J17+'Sitio 7'!J17+'Sitio 8'!J17+'Sitio 9'!J17+'Sitio 10'!J17) -> 2100 | K16: =SUM('Sitio 1'!K17+'Sitio 2'!K17+'Sitio 3'!K17+'Sitio 4'!K17+'Sitio 5'!K17+'Sitio 6'!K17+'Sitio 7'!K17+'Sitio 8'!K17+'Sitio 9'!K17+'Sitio 10'!K17) -> 2050 | ... O16: =SUM('Sitio 1'!O17+'Sitio 2'!O17+'Sitio 3'!O17+'Sitio 4'!O17+'Sitio 5'!O17+'Sitio 6'!O17+'Sitio 7'!O17+'Sitio 8'!O17+'Sitio 9'!O17+'Sitio 10'!O17) -> 2260 | P16: =SUM(D16:O16) -> 26810 | Q16: =SUM('Sitio 1'!Q16+'Sitio 2'!Q16+'Sitio 3'!Q16+'Sitio 4'!Q16+'Sitio 5'!Q16+'Sitio 6'!Q16+'Sitio 7'!Q16+'Sitio 8'!Q16+'Sitio 9'!Q16+'Sitio 10'!Q16) -> 11500000 | R16: =P16+Q16 -> 11526810
C17: Average Manpower | D17: =SUM('Sitio 1'!D18+'Sitio 2'!D18+'Sitio 3'!D18+'Sitio 4'!D18+'Sitio 5'!D18+'Sitio 6'!D18+'Sitio 7'!D18+'Sitio 8'!D18+'Sitio 9'!D18+'Sitio 10'!D18) -> 0 | E17: =SUM('Sitio 1'!E18+'Sitio 2'!E18+'Sitio 3'!E18+'Sitio 4'!E18+'Sitio 5'!E18+'Sitio 6'!E18+'Sitio 7'!E18+'Sitio 8'!E18+'Sitio 9'!E18+'Sitio 10'!E18) -> 0 | F17: =SUM('Sitio 1'!F18+'Sitio 2'!F18+'Sitio 3'!F18+'Sitio 4'!F18+'Sitio 5'!F18+'Sitio 6'!F18+'Sitio 7'!F18+'Sitio 8'!F18+'Sitio 9'!F18+'Sitio 10'!F18) -> 0 | G17: =SUM('Sitio 1'!G18+'Sitio 2'!G18+'Sitio 3'!G18+'Sitio 4'!G18+'Sitio 5'!G18+'Sitio 6'!G18+'Sitio 7'!G18+'Sitio 8'!G18+'Sitio 9'!G18+'Sitio 10'!G18) -> 0 | H17: =SUM('Sitio 1'!H18+'Sitio 2'!H18+'Sitio 3'!H18+'Sitio 4'!H18+'Sitio 5'!H18+'Sitio 6'!H18+'Sitio 7'!H18+'Sitio 8'!H18+'Sitio 9'!H18+'Sitio 10'!H18) -> 0 | I17: =SUM('Sitio 1'!I18+'Sitio 2'!I18+'Sitio 3'!I18+'Sitio 4'!I18+'Sitio 5'!I18+'Sitio 6'!I18+'Sitio 7'!I18+'Sitio 8'!I18+'Sitio 9'!I18+'Sitio 10'!I18) -> 20 | J17: =SUM('Sitio 1'!J18+'Sitio 2'!J18+'Sitio 3'!J18+'Sitio 4'!J18+'Sitio 5'!J18+'Sitio 6'!J18+'Sitio 7'!J18+'Sitio 8'!J18+'Sitio 9'!J18+'Sitio 10'!J18) -> 10 | K17: =SUM('Sitio 1'!K18+'Sitio 2'!K18+'Sitio 3'!K18+'Sitio 4'!K18+'Sitio 5'!K18+'Sitio 6'!K18+'Sitio 7'!K18+'Sitio 8'!K18+'Sitio 9'!K18+'Sitio 10'!K18) -> 20 | ... O17: =SUM('Sitio 1'!O18+'Sitio 2'!O18+'Sitio 3'!O18+'Sitio 4'!O18+'Sitio 5'!O18+'Sitio 6'!O18+'Sitio 7'!O18+'Sitio 8'!O18+'Sitio 9'!O18+'Sitio 10'!O18) -> 10 | P17: =SUM(D17:O17) -> 90 | Q17: =SUM('Sitio 1'!Q17+'Sitio 2'!Q17+'Sitio 3'!Q17+'Sitio 4'!Q17+'Sitio 5'!Q17+'Sitio 6'!Q17+'Sitio 7'!Q17+'Sitio 8'!Q17+'Sitio 9'!Q17+'Sitio 10'!Q17) -> 2500 | R17: =P17+Q17 -> 2590
C18: Nearmiss Incidents Reported | D18: =SUM('Sitio 1'!D19+'Sitio 2'!D19+'Sitio 3'!D19+'Sitio 4'!D19+'Sitio 5'!D19+'Sitio 6'!D19+'Sitio 7'!D19+'Sitio 8'!D19+'Sitio 9'!D19+'Sitio 10'!D19) -> 20 | E18: =SUM('Sitio 1'!E19+'Sitio 2'!E19+'Sitio 3'!E19+'Sitio 4'!E19+'Sitio 5'!E19+'Sitio 6'!E19+'Sitio 7'!E19+'Sitio 8'!E19+'Sitio 9'!E19+'Sitio 10'!E19) -> 50 | F18: =SUM('Sitio 1'!F19+'Sitio 2'!F19+'Sitio 3'!F19+'Sitio 4'!F19+'Sitio 5'!F19+'Sitio 6'!F19+'Sitio 7'!F19+'Sitio 8'!F19+'Sitio 9'!F19+'Sitio 10'!F19) -> 30 | G18: =SUM('Sitio 1'!G19+'Sitio 2'!G19+'Sitio 3'!G19+'Sitio 4'!G19+'Sitio 5'!G19+'Sitio 6'!G19+'Sitio 7'!G19+'Sitio 8'!G19+'Sitio 9'!G19+'Sitio 10'!G19) -> 40 | H18: =SUM('Sitio 1'!H19+'Sitio 2'!H19+'Sitio 3'!H19+'Sitio 4'!H19+'Sitio 5'!H19+'Sitio 6'!H19+'Sitio 7'!H19+'Sitio 8'!H19+'Sitio 9'!H19+'Sitio 10'!H19) -> 70 | I18: =SUM('Sitio 1'!I19+'Sitio 2'!I19+'Sitio 3'!I19+'Sitio 4'!I19+'Sitio 5'!I19+'Sitio 6'!I19+'Sitio 7'!I19+'Sitio 8'!I19+'Sitio 9'!I19+'Sitio 10'!I19) -> 10 | J18: =SUM('Sitio 1'!J19+'Sitio 2'!J19+'Sitio 3'!J19+'Sitio 4'!J19+'Sitio 5'!J19+'Sitio 6'!J19+'Sitio 7'!J19+'Sitio 8'!J19+'Sitio 9'!J19+'Sitio 10'!J19) -> 30 | K18: =SUM('Sitio 1'!K19+'Sitio 2'!K19+'Sitio 3'!K19+'Sitio 4'!K19+'Sitio 5'!K19+'Sitio 6'!K19+'Sitio 7'!K19+'Sitio 8'!K19+'Sitio 9'!K19+'Sitio 10'!K19) -> 60 | ... O18: =SUM('Sitio 1'!O19+'Sitio 2'!O19+'Sitio 3'!O19+'Sitio 4'!O19+'Sitio 5'!O19+'Sitio 6'!O19+'Sitio 7'!O19+'Sitio 8'!O19+'Sitio 9'!O19+'Sitio 10'!O19) -> 10 | P18: =SUM(D18:O18) -> 470 | Q18: =SUM('Sitio 1'!Q18+'Sitio 2'!Q18+'Sitio 3'!Q18+'Sitio 4'!Q18+'Sitio 5'!Q18+'Sitio 6'!Q18+'Sitio 7'!Q18+'Sitio 8'!Q18+'Sitio 9'!Q18+'Sitio 10'!Q18) -> 100 | R18: =P18+Q18 -> 570
C19: Number of Client HSE observations - Closed | D19: =SUM('Sitio 1'!D20+'Sitio 2'!D20+'Sitio 3'!D20+'Sitio 4'!D20+'Sitio 5'!D20+'Sitio 6'!D20+'Sitio 7'!D20+'Sitio 8'!D20+'Sitio 9'!D20+'Sitio 10'!D20) -> 20 | E19: =SUM('Sitio 1'!E20+'Sitio 2'!E20+'Sitio 3'!E20+'Sitio 4'!E20+'Sitio 5'!E20+'Sitio 6'!E20+'Sitio 7'!E20+'Sitio 8'!E20+'Sitio 9'!E20+'Sitio 10'!E20) -> 50 | F19: =SUM('Sitio 1'!F20+'Sitio 2'!F20+'Sitio 3'!F20+'Sitio 4'!F20+'Sitio 5'!F20+'Sitio 6'!F20+'Sitio 7'!F20+'Sitio 8'!F20+'Sitio 9'!F20+'Sitio 10'!F20) -> 30 | G19: =SUM('Sitio 1'!G20+'Sitio 2'!G20+'Sitio 3'!G20+'Sitio 4'!G20+'Sitio 5'!G20+'Sitio 6'!G20+'Sitio 7'!G20+'Sitio 8'!G20+'Sitio 9'!G20+'Sitio 10'!G20) -> 40 | H19: =SUM('Sitio 1'!H20+'Sitio 2'!H20+'Sitio 3'!H20+'Sitio 4'!H20+'Sitio 5'!H20+'Sitio 6'!H20+'Sitio 7'!H20+'Sitio 8'!H20+'Sitio 9'!H20+'Sitio 10'!H20) -> 70 | I19: =SUM('Sitio 1'!I20+'Sitio 2'!I20+'Sitio 3'!I20+'Sitio 4'!I20+'Sitio 5'!I20+'Sitio 6'!I20+'Sitio 7'!I20+'Sitio 8'!I20+'Sitio 9'!I20+'Sitio 10'!I20) -> 10 | J19: =SUM('Sitio 1'!J20+'Sitio 2'!J20+'Sitio 3'!J20+'Sitio 4'!J20+'Sitio 5'!J20+'Sitio 6'!J20+'Sitio 7'!J20+'Sitio 8'!J20+'Sitio 9'!J20+'Sitio 10'!J20) -> 30 | K19: =SUM('Sitio 1'!K20+'Sitio 2'!K20+'Sitio 3'!K20+'Sitio 4'!K20+'Sitio 5'!K20+'Sitio 6'!K20+'Sitio 7'!K20+'Sitio 8'!K20+'Sitio 9'!K20+'Sitio 10'!K20) -> 60 | ... O19: =SUM('Sitio 1'!O20+'Sitio 2'!O20+'Sitio 3'!O20+'Sitio 4'!O20+'Sitio 5'!O20+'Sitio 6'!O20+'Sitio 7'!O20+'Sitio 8'!O20+'Sitio 9'!O20+'Sitio 10'!O20) -> 10 | P19: =SUM(D19:O19) -> 470 | Q19: =SUM('Sitio 1'!Q19+'Sitio 2'!Q19+'Sitio 3'!Q19+'Sitio 4'!Q19+'Sitio 5'!Q19+'Sitio 6'!Q19+'Sitio 7'!Q19+'Sitio 8'!Q19+'Sitio 9'!Q19+'Sitio 10'!Q19) -> 500 | R19: =P19+Q19 -> 970
C20: Number of Internal HSE observations - Closed | D20: =SUM('Sitio 1'!D21+'Sitio 2'!D21+'Sitio 3'!D21+'Sitio 4'!D21+'Sitio 5'!D21+'Sitio 6'!D21+'Sitio 7'!D21+'Sitio 8'!D21+'Sitio 9'!D21+'Sitio 10'!D21) -> 40 | E20: =SUM('Sitio 1'!E21+'Sitio 2'!E21+'Sitio 3'!E21+'Sitio 4'!E21+'Sitio 5'!E21+'Sitio 6'!E21+'Sitio 7'!E21+'Sitio 8'!E21+'Sitio 9'!E21+'Sitio 10'!E21) -> 40 | F20: =SUM('Sitio 1'!F21+'Sitio 2'!F21+'Sitio 3'!F21+'Sitio 4'!F21+'Sitio 5'!F21+'Sitio 6'!F21+'Sitio 7'!F21+'Sitio 8'!F21+'Sitio 9'!F21+'Sitio 10'!F21) -> 40 | G20: =SUM('Sitio 1'!G21+'Sitio 2'!G21+'Sitio 3'!G21+'Sitio 4'!G21+'Sitio 5'!G21+'Sitio 6'!G21+'Sitio 7'!G21+'Sitio 8'!G21+'Sitio 9'!G21+'Sitio 10'!G21) -> 40 | H20: =SUM('Sitio 1'!H21+'Sitio 2'!H21+'Sitio 3'!H21+'Sitio 4'!H21+'Sitio 5'!H21+'Sitio 6'!H21+'Sitio 7'!H21+'Sitio 8'!H21+'Sitio 9'!H21+'Sitio 10'!H21) -> 40 | I20: =SUM('Sitio 1'!I21+'Sitio 2'!I21+'Sitio 3'!I21+'Sitio 4'!I21+'Sitio 5'!I21+'Sitio 6'!I21+'Sitio 7'!I21+'Sitio 8'!I21+'Sitio 9'!I21+'Sitio 10'!I21) -> 40 | J20: =SUM('Sitio 1'!J21+'Sitio 2'!J21+'Sitio 3'!J21+'Sitio 4'!J21+'Sitio 5'!J21+'Sitio 6'!J21+'Sitio 7'!J21+'Sitio 8'!J21+'Sitio 9'!J21+'Sitio 10'!J21) -> 40 | K20: =SUM('Sitio 1'!K21+'Sitio 2'!K21+'Sitio 3'!K21+'Sitio 4'!K21+'Sitio 5'!K21+'Sitio 6'!K21+'Sitio 7'!K21+'Sitio 8'!K21+'Sitio 9'!K21+'Sitio 10'!K21) -> 40 | ... O20: =SUM('Sitio 1'!O21+'Sitio 2'!O21+'Sitio 3'!O21+'Sitio 4'!O21+'Sitio 5'!O21+'Sitio 6'!O21+'Sitio 7'!O21+'Sitio 8'!O21+'Sitio 9'!O21+'Sitio 10'!O21) -> 40 | P20: =SUM(D20:O20) -> 480 | Q20: =SUM('Sitio 1'!Q20+'Sitio 2'!Q20+'Sitio 3'!Q20+'Sitio 4'!Q20+'Sitio 5'!Q20+'Sitio 6'!Q20+'Sitio 7'!Q20+'Sitio 8'!Q20+'Sitio 9'!Q20+'Sitio 10'!Q20) -> 500 | R20: =P20+Q20 -> 980
C21: Number of HSE Walk through/Audits - Client | D21: =SUM('Sitio 1'!D22+'Sitio 2'!D22+'Sitio 3'!D22+'Sitio 4'!D22+'Sitio 5'!D22+'Sitio 6'!D22+'Sitio 7'!D22+'Sitio 8'!D22+'Sitio 9'!D22+'Sitio 10'!D22) -> 20 | E21: =SUM('Sitio 1'!E22+'Sitio 2'!E22+'Sitio 3'!E22+'Sitio 4'!E22+'Sitio 5'!E22+'Sitio 6'!E22+'Sitio 7'!E22+'Sitio 8'!E22+'Sitio 9'!E22+'Sitio 10'!E22) -> 20 | F21: =SUM('Sitio 1'!F22+'Sitio 2'!F22+'Sitio 3'!F22+'Sitio 4'!F22+'Sitio 5'!F22+'Sitio 6'!F22+'Sitio 7'!F22+'Sitio 8'!F22+'Sitio 9'!F22+'Sitio 10'!F22) -> 20 | G21: =SUM('Sitio 1'!G22+'Sitio 2'!G22+'Sitio 3'!G22+'Sitio 4'!G22+'Sitio 5'!G22+'Sitio 6'!G22+'Sitio 7'!G22+'Sitio 8'!G22+'Sitio 9'!G22+'Sitio 10'!G22) -> 20 | H21: =SUM('Sitio 1'!H22+'Sitio 2'!H22+'Sitio 3'!H22+'Sitio 4'!H22+'Sitio 5'!H22+'Sitio 6'!H22+'Sitio 7'!H22+'Sitio 8'!H22+'Sitio 9'!H22+'Sitio 10'!H22) -> 20 | I21: =SUM('Sitio 1'!I22+'Sitio 2'!I22+'Sitio 3'!I22+'Sitio 4'!I22+'Sitio 5'!I22+'Sitio 6'!I22+'Sitio 7'!I22+'Sitio 8'!I22+'Sitio 9'!I22+'Sitio 10'!I22) -> 20 | J21: =SUM('Sitio 1'!J22+'Sitio 2'!J22+'Sitio 3'!J22+'Sitio 4'!J22+'Sitio 5'!J22+'Sitio 6'!J22+'Sitio 7'!J22+'Sitio 8'!J22+'Sitio 9'!J22+'Sitio 10'!J22) -> 20 | K21: =SUM('Sitio 1'!K22+'Sitio 2'!K22+'Sitio 3'!K22+'Sitio 4'!K22+'Sitio 5'!K22+'Sitio 6'!K22+'Sitio 7'!K22+'Sitio 8'!K22+'Sitio 9'!K22+'Sitio 10'!K22) -> 20 | ... O21: =SUM('Sitio 1'!O22+'Sitio 2'!O22+'Sitio 3'!O22+'Sitio 4'!O22+'Sitio 5'!O22+'Sitio 6'!O22+'Sitio 7'!O22+'Sitio 8'!O22+'Sitio 9'!O22+'Sitio 10'!O22) -> 20 | P21: =SUM(D21:O21) -> 240 | Q21: =SUM('Sitio 1'!Q21+'Sitio 2'!Q21+'Sitio 3'!Q21+'Sitio 4'!Q21+'Sitio 5'!Q21+'Sitio 6'!Q21+'Sitio 7'!Q21+'Sitio 8'!Q21+'Sitio 9'!Q21+'Sitio 10'!Q21) -> 160 | R21: =P21+Q21 -> 400
C22: Number of HSE walk through/Audits - Internal | D22: =SUM('Sitio 1'!D23+'Sitio 2'!D23+'Sitio 3'!D23+'Sitio 4'!D23+'Sitio 5'!D23+'Sitio 6'!D23+'Sitio 7'!D23+'Sitio 8'!D23+'Sitio 9'!D23+'Sitio 10'!D23) -> 200 | E22: =SUM('Sitio 1'!E23+'Sitio 2'!E23+'Sitio 3'!E23+'Sitio 4'!E23+'Sitio 5'!E23+'Sitio 6'!E23+'Sitio 7'!E23+'Sitio 8'!E23+'Sitio 9'!E23+'Sitio 10'!E23) -> 300 | F22: =SUM('Sitio 1'!F23+'Sitio 2'!F23+'Sitio 3'!F23+'Sitio 4'!F23+'Sitio 5'!F23+'Sitio 6'!F23+'Sitio 7'!F23+'Sitio 8'!F23+'Sitio 9'!F23+'Sitio 10'!F23) -> 300 | G22: =SUM('Sitio 1'!G23+'Sitio 2'!G23+'Sitio 3'!G23+'Sitio 4'!G23+'Sitio 5'!G23+'Sitio 6'!G23+'Sitio 7'!G23+'Sitio 8'!G23+'Sitio 9'!G23+'Sitio 10'!G23) -> 300 | H22: =SUM('Sitio 1'!H23+'Sitio 2'!H23+'Sitio 3'!H23+'Sitio 4'!H23+'Sitio 5'!H23+'Sitio 6'!H23+'Sitio 7'!H23+'Sitio 8'!H23+'Sitio 9'!H23+'Sitio 10'!H23) -> 300 | I22: =SUM('Sitio 1'!I23+'Sitio 2'!I23+'Sitio 3'!I23+'Sitio 4'!I23+'Sitio 5'!I23+'Sitio 6'!I23+'Sitio 7'!I23+'Sitio 8'!I23+'Sitio 9'!I23+'Sitio 10'!I23) -> 300 | J22: =SUM('Sitio 1'!J23+'Sitio 2'!J23+'Sitio 3'!J23+'Sitio 4'!J23+'Sitio 5'!J23+'Sitio 6'!J23+'Sitio 7'!J23+'Sitio 8'!J23+'Sitio 9'!J23+'Sitio 10'!J23) -> 300 | K22: =SUM('Sitio 1'!K23+'Sitio 2'!K23+'Sitio 3'!K23+'Sitio 4'!K23+'Sitio 5'!K23+'Sitio 6'!K23+'Sitio 7'!K23+'Sitio 8'!K23+'Sitio 9'!K23+'Sitio 10'!K23) -> 300 | ... O22: =SUM('Sitio 1'!O23+'Sitio 2'!O23+'Sitio 3'!O23+'Sitio 4'!O23+'Sitio 5'!O23+'Sitio 6'!O23+'Sitio 7'!O23+'Sitio 8'!O23+'Sitio 9'!O23+'Sitio 10'!O23) -> 300 | P22: =SUM(D22:O22) -> 3500 | Q22: =SUM('Sitio 1'!Q22+'Sitio 2'!Q22+'Sitio 3'!Q22+'Sitio 4'!Q22+'Sitio 5'!Q22+'Sitio 6'!Q22+'Sitio 7'!Q22+'Sitio 8'!Q22+'Sitio 9'!Q22+'Sitio 10'!Q22) -> 240 | R22: =P22+Q22 -> 3740
C23: Number of Safety Inspection | D23: =SUM('Sitio 1'!D24+'Sitio 2'!D24+'Sitio 3'!D24+'Sitio 4'!D24+'Sitio 5'!D24+'Sitio 6'!D24+'Sitio 7'!D24+'Sitio 8'!D24+'Sitio 9'!D24+'Sitio 10'!D24) -> 40 | E23: =SUM('Sitio 1'!E24+'Sitio 2'!E24+'Sitio 3'!E24+'Sitio 4'!E24+'Sitio 5'!E24+'Sitio 6'!E24+'Sitio 7'!E24+'Sitio 8'!E24+'Sitio 9'!E24+'Sitio 10'!E24) -> 40 | F23: =SUM('Sitio 1'!F24+'Sitio 2'!F24+'Sitio 3'!F24+'Sitio 4'!F24+'Sitio 5'!F24+'Sitio 6'!F24+'Sitio 7'!F24+'Sitio 8'!F24+'Sitio 9'!F24+'Sitio 10'!F24) -> 40 | G23: =SUM('Sitio 1'!G24+'Sitio 2'!G24+'Sitio 3'!G24+'Sitio 4'!G24+'Sitio 5'!G24+'Sitio 6'!G24+'Sitio 7'!G24+'Sitio 8'!G24+'Sitio 9'!G24+'Sitio 10'!G24) -> 40 | H23: =SUM('Sitio 1'!H24+'Sitio 2'!H24+'Sitio 3'!H24+'Sitio 4'!H24+'Sitio 5'!H24+'Sitio 6'!H24+'Sitio 7'!H24+'Sitio 8'!H24+'Sitio 9'!H24+'Sitio 10'!H24) -> 40 | I23: =SUM('Sitio 1'!I24+'Sitio 2'!I24+'Sitio 3'!I24+'Sitio 4'!I24+'Sitio 5'!I24+'Sitio 6'!I24+'Sitio 7'!I24+'Sitio 8'!I24+'Sitio 9'!I24+'Sitio 10'!I24) -> 40 | J23: =SUM('Sitio 1'!J24+'Sitio 2'!J24+'Sitio 3'!J24+'Sitio 4'!J24+'Sitio 5'!J24+'Sitio 6'!J24+'Sitio 7'!J24+'Sitio 8'!J24+'Sitio 9'!J24+'Sitio 10'!J24) -> 40 | K23: =SUM('Sitio 1'!K24+'Sitio 2'!K24+'Sitio 3'!K24+'Sitio 4'!K24+'Sitio 5'!K24+'Sitio 6'!K24+'Sitio 7'!K24+'Sitio 8'!K24+'Sitio 9'!K24+'Sitio 10'!K24) -> 40 | ... P23: =SUM('Sitio 1'!P24+'Sitio 2'!P24+'Sitio 3'!P24+'Sitio 4'!P24+'Sitio 5'!P24+'Sitio 6'!P24+'Sitio 7'!P24+'Sitio 8'!P24+'Sitio 9'!P24+'Sitio 10'!P24) -> 480 | Q23: =SUM('Sitio 1'!Q23+'Sitio 2'!Q23+'Sitio 3'!Q23+'Sitio 4'!Q23+'Sitio 5'!Q23+'Sitio 6'!Q23+'Sitio 7'!Q23+'Sitio 8'!Q23+'Sitio 9'!Q23+'Sitio 10'!Q23) -> 2100 | R23: =P23+Q23 -> 2580
C24: Number of Group Meetings conducted | D24: =SUM('Sitio 1'!D24+'Sitio 2'!D24+'Sitio 3'!D24+'Sitio 4'!D24+'Sitio 5'!D24+'Sitio 6'!D24+'Sitio 7'!D24+'Sitio 8'!D24+'Sitio 9'!D24+'Sitio 10'!D24) -> 40 | E24: =SUM('Sitio 1'!E24+'Sitio 2'!E24+'Sitio 3'!E24+'Sitio 4'!E24+'Sitio 5'!E24+'Sitio 6'!E24+'Sitio 7'!E24+'Sitio 8'!E24+'Sitio 9'!E24+'Sitio 10'!E24) -> 40 | F24: =SUM('Sitio 1'!F24+'Sitio 2'!F24+'Sitio 3'!F24+'Sitio 4'!F24+'Sitio 5'!F24+'Sitio 6'!F24+'Sitio 7'!F24+'Sitio 8'!F24+'Sitio 9'!F24+'Sitio 10'!F24) -> 40 | G24: =SUM('Sitio 1'!G24+'Sitio 2'!G24+'Sitio 3'!G24+'Sitio 4'!G24+'Sitio 5'!G24+'Sitio 6'!G24+'Sitio 7'!G24+'Sitio 8'!G24+'Sitio 9'!G24+'Sitio 10'!G24) -> 40 | H24: =SUM('Sitio 1'!H24+'Sitio 2'!H24+'Sitio 3'!H24+'Sitio 4'!H24+'Sitio 5'!H24+'Sitio 6'!H24+'Sitio 7'!H24+'Sitio 8'!H24+'Sitio 9'!H24+'Sitio 10'!H24) -> 40 | I24: =SUM('Sitio 1'!I24+'Sitio 2'!I24+'Sitio 3'!I24+'Sitio 4'!I24+'Sitio 5'!I24+'Sitio 6'!I24+'Sitio 7'!I24+'Sitio 8'!I24+'Sitio 9'!I24+'Sitio 10'!I24) -> 40 | J24: =SUM('Sitio 1'!J24+'Sitio 2'!J24+'Sitio 3'!J24+'Sitio 4'!J24+'Sitio 5'!J24+'Sitio 6'!J24+'Sitio 7'!J24+'Sitio 8'!J24+'Sitio 9'!J24+'Sitio 10'!J24) -> 40 | K24: =SUM('Sitio 1'!K24+'Sitio 2'!K24+'Sitio 3'!K24+'Sitio 4'!K24+'Sitio 5'!K24+'Sitio 6'!K24+'Sitio 7'!K24+'Sitio 8'!K24+'Sitio 9'!K24+'Sitio 10'!K24) -> 40 | ... O24: =SUM('Sitio 1'!O24+'Sitio 2'!O24+'Sitio 3'!O24+'Sitio 4'!O24+'Sitio 5'!O24+'Sitio 6'!O24+'Sitio 7'!O24+'Sitio 8'!O24+'Sitio 9'!O24+'Sitio 10'!O24) -> 40 | P24: =SUM(D24:O24) -> 480 | Q24: =SUM('Sitio 1'!Q24+'Sitio 2'!Q24+'Sitio 3'!Q24+'Sitio 4'!Q24+'Sitio 5'!Q24+'Sitio 6'!Q24+'Sitio 7'!Q24+'Sitio 8'!Q24+'Sitio 9'!Q24+'Sitio 10'!Q24) -> 480 | R24: =P24+Q24 -> 960
C25: Number of HSE Meetings conducted | D25: =SUM('Sitio 1'!D25+'Sitio 2'!D25+'Sitio 3'!D25+'Sitio 4'!D25+'Sitio 5'!D25+'Sitio 6'!D25+'Sitio 7'!D25+'Sitio 8'!D25+'Sitio 9'!D25+'Sitio 10'!D25) -> 10 | E25: =SUM('Sitio 1'!E25+'Sitio 2'!E25+'Sitio 3'!E25+'Sitio 4'!E25+'Sitio 5'!E25+'Sitio 6'!E25+'Sitio 7'!E25+'Sitio 8'!E25+'Sitio 9'!E25+'Sitio 10'!E25) -> 10 | F25: =SUM('Sitio 1'!F25+'Sitio 2'!F25+'Sitio 3'!F25+'Sitio 4'!F25+'Sitio 5'!F25+'Sitio 6'!F25+'Sitio 7'!F25+'Sitio 8'!F25+'Sitio 9'!F25+'Sitio 10'!F25) -> 10 | G25: =SUM('Sitio 1'!G25+'Sitio 2'!G25+'Sitio 3'!G25+'Sitio 4'!G25+'Sitio 5'!G25+'Sitio 6'!G25+'Sitio 7'!G25+'Sitio 8'!G25+'Sitio 9'!G25+'Sitio 10'!G25) -> 10 | H25: =SUM('Sitio 1'!H25+'Sitio 2'!H25+'Sitio 3'!H25+'Sitio 4'!H25+'Sitio 5'!H25+'Sitio 6'!H25+'Sitio 7'!H25+'Sitio 8'!H25+'Sitio 9'!H25+'Sitio 10'!H25) -> 10 | I25: =SUM('Sitio 1'!I25+'Sitio 2'!I25+'Sitio 3'!I25+'Sitio 4'!I25+'Sitio 5'!I25+'Sitio 6'!I25+'Sitio 7'!I25+'Sitio 8'!I25+'Sitio 9'!I25+'Sitio 10'!I25) -> 10 | J25: =SUM('Sitio 1'!J25+'Sitio 2'!J25+'Sitio 3'!J25+'Sitio 4'!J25+'Sitio 5'!J25+'Sitio 6'!J25+'Sitio 7'!J25+'Sitio 8'!J25+'Sitio 9'!J25+'Sitio 10'!J25) -> 10 | K25: =SUM('Sitio 1'!K25+'Sitio 2'!K25+'Sitio 3'!K25+'Sitio 4'!K25+'Sitio 5'!K25+'Sitio 6'!K25+'Sitio 7'!K25+'Sitio 8'!K25+'Sitio 9'!K25+'Sitio 10'!K25) -> 10 | ... O25: =SUM('Sitio 1'!O25+'Sitio 2'!O25+'Sitio 3'!O25+'Sitio 4'!O25+'Sitio 5'!O25+'Sitio 6'!O25+'Sitio 7'!O25+'Sitio 8'!O25+'Sitio 9'!O25+'Sitio 10'!O25) -> 10 | P25: =SUM(D25:O25) -> 120 | Q25: =SUM('Sitio 1'!Q25+'Sitio 2'!Q25+'Sitio 3'!Q25+'Sitio 4'!Q25+'Sitio 5'!Q25+'Sitio 6'!Q25+'Sitio 7'!Q25+'Sitio 8'!Q25+'Sitio 9'!Q25+'Sitio 10'!Q25) -> 120 | R25: =P25+Q25 -> 240
C26: Site HSE induction internal - Number of persons | D26: =SUM('Sitio 1'!D26+'Sitio 2'!D26+'Sitio 3'!D26+'Sitio 4'!D26+'Sitio 5'!D26+'Sitio 6'!D26+'Sitio 7'!D26+'Sitio 8'!D26+'Sitio 9'!D26+'Sitio 10'!D26) -> 200 | E26: =SUM('Sitio 1'!E26+'Sitio 2'!E26+'Sitio 3'!E26+'Sitio 4'!E26+'Sitio 5'!E26+'Sitio 6'!E26+'Sitio 7'!E26+'Sitio 8'!E26+'Sitio 9'!E26+'Sitio 10'!E26) -> 200 | F26: =SUM('Sitio 1'!F26+'Sitio 2'!F26+'Sitio 3'!F26+'Sitio 4'!F26+'Sitio 5'!F26+'Sitio 6'!F26+'Sitio 7'!F26+'Sitio 8'!F26+'Sitio 9'!F26+'Sitio 10'!F26) -> 200 | G26: =SUM('Sitio 1'!G26+'Sitio 2'!G26+'Sitio 3'!G26+'Sitio 4'!G26+'Sitio 5'!G26+'Sitio 6'!G26+'Sitio 7'!G26+'Sitio 8'!G26+'Sitio 9'!G26+'Sitio 10'!G26) -> 200 | H26: =SUM('Sitio 1'!H26+'Sitio 2'!H26+'Sitio 3'!H26+'Sitio 4'!H26+'Sitio 5'!H26+'Sitio 6'!H26+'Sitio 7'!H26+'Sitio 8'!H26+'Sitio 9'!H26+'Sitio 10'!H26) -> 100 | I26: =SUM('Sitio 1'!I26+'Sitio 2'!I26+'Sitio 3'!I26+'Sitio 4'!I26+'Sitio 5'!I26+'Sitio 6'!I26+'Sitio 7'!I26+'Sitio 8'!I26+'Sitio 9'!I26+'Sitio 10'!I26) -> 50 | J26: =SUM('Sitio 1'!J26+'Sitio 2'!J26+'Sitio 3'!J26+'Sitio 4'!J26+'Sitio 5'!J26+'Sitio 6'!J26+'Sitio 7'!J26+'Sitio 8'!J26+'Sitio 9'!J26+'Sitio 10'!J26) -> 100 | K26: =SUM('Sitio 1'!K26+'Sitio 2'!K26+'Sitio 3'!K26+'Sitio 4'!K26+'Sitio 5'!K26+'Sitio 6'!K26+'Sitio 7'!K26+'Sitio 8'!K26+'Sitio 9'!K26+'Sitio 10'!K26) -> 220 | ... O26: =SUM('Sitio 1'!O26+'Sitio 2'!O26+'Sitio 3'!O26+'Sitio 4'!O26+'Sitio 5'!O26+'Sitio 6'!O26+'Sitio 7'!O26+'Sitio 8'!O26+'Sitio 9'!O26+'Sitio 10'!O26) -> 100 | P26: =SUM(D26:O26) -> 1820 | Q26: =SUM('Sitio 1'!Q26+'Sitio 2'!Q26+'Sitio 3'!Q26+'Sitio 4'!Q26+'Sitio 5'!Q26+'Sitio 6'!Q26+'Sitio 7'!Q26+'Sitio 8'!Q26+'Sitio 9'!Q26+'Sitio 10'!Q26) -> 2000 | R26: =P26+Q26 -> 3820
C27: Site HSE induction Client - Number of persons | D27: =SUM('Sitio 1'!D27+'Sitio 2'!D27+'Sitio 3'!D27+'Sitio 4'!D27+'Sitio 5'!D27+'Sitio 6'!D27+'Sitio 7'!D27+'Sitio 8'!D27+'Sitio 9'!D27+'Sitio 10'!D27) -> 200 | E27: =SUM('Sitio 1'!E27+'Sitio 2'!E27+'Sitio 3'!E27+'Sitio 4'!E27+'Sitio 5'!E27+'Sitio 6'!E27+'Sitio 7'!E27+'Sitio 8'!E27+'Sitio 9'!E27+'Sitio 10'!E27) -> 200 | F27: =SUM('Sitio 1'!F27+'Sitio 2'!F27+'Sitio 3'!F27+'Sitio 4'!F27+'Sitio 5'!F27+'Sitio 6'!F27+'Sitio 7'!F27+'Sitio 8'!F27+'Sitio 9'!F27+'Sitio 10'!F27) -> 200 | G27: =SUM('Sitio 1'!G27+'Sitio 2'!G27+'Sitio 3'!G27+'Sitio 4'!G27+'Sitio 5'!G27+'Sitio 6'!G27+'Sitio 7'!G27+'Sitio 8'!G27+'Sitio 9'!G27+'Sitio 10'!G27) -> 200 | H27: =SUM('Sitio 1'!H27+'Sitio 2'!H27+'Sitio 3'!H27+'Sitio 4'!H27+'Sitio 5'!H27+'Sitio 6'!H27+'Sitio 7'!H27+'Sitio 8'!H27+'Sitio 9'!H27+'Sitio 10'!H27) -> 100 | I27: =SUM('Sitio 1'!I27+'Sitio 2'!I27+'Sitio 3'!I27+'Sitio 4'!I27+'Sitio 5'!I27+'Sitio 6'!I27+'Sitio 7'!I27+'Sitio 8'!I27+'Sitio 9'!I27+'Sitio 10'!I27) -> 50 | J27: =SUM('Sitio 1'!J27+'Sitio 2'!J27+'Sitio 3'!J27+'Sitio 4'!J27+'Sitio 5'!J27+'Sitio 6'!J27+'Sitio 7'!J27+'Sitio 8'!J27+'Sitio 9'!J27+'Sitio 10'!J27) -> 100 | K27: =SUM('Sitio 1'!K27+'Sitio 2'!K27+'Sitio 3'!K27+'Sitio 4'!K27+'Sitio 5'!K27+'Sitio 6'!K27+'Sitio 7'!K27+'Sitio 8'!K27+'Sitio 9'!K27+'Sitio 10'!K27) -> 220 | ... O27: =SUM('Sitio 1'!O27+'Sitio 2'!O27+'Sitio 3'!O27+'Sitio 4'!O27+'Sitio 5'!O27+'Sitio 6'!O27+'Sitio 7'!O27+'Sitio 8'!O27+'Sitio 9'!O27+'Sitio 10'!O27) -> 100 | P27: =SUM(D27:O27) -> 1820 | Q27: =SUM('Sitio 1'!Q27+'Sitio 2'!Q27+'Sitio 3'!Q27+'Sitio 4'!Q27+'Sitio 5'!Q27+'Sitio 6'!Q27+'Sitio 7'!Q27+'Sitio 8'!Q27+'Sitio 9'!Q27+'Sitio 10'!Q27) -> 1000 | R27: =P27+Q27 -> 2820
C28: HSE Specific Training - Number of persons | D28: =SUM('Sitio 1'!D28+'Sitio 2'!D28+'Sitio 3'!D28+'Sitio 4'!D28+'Sitio 5'!D28+'Sitio 6'!D28+'Sitio 7'!D28+'Sitio 8'!D28+'Sitio 9'!D28+'Sitio 10'!D28) -> 12 | E28: =SUM('Sitio 1'!E28+'Sitio 2'!E28+'Sitio 3'!E28+'Sitio 4'!E28+'Sitio 5'!E28+'Sitio 6'!E28+'Sitio 7'!E28+'Sitio 8'!E28+'Sitio 9'!E28+'Sitio 10'!E28) -> 12 | F28: =SUM('Sitio 1'!F28+'Sitio 2'!F28+'Sitio 3'!F28+'Sitio 4'!F28+'Sitio 5'!F28+'Sitio 6'!F28+'Sitio 7'!F28+'Sitio 8'!F28+'Sitio 9'!F28+'Sitio 10'!F28) -> 12 | G28: =SUM('Sitio 1'!G28+'Sitio 2'!G28+'Sitio 3'!G28+'Sitio 4'!G28+'Sitio 5'!G28+'Sitio 6'!G28+'Sitio 7'!G28+'Sitio 8'!G28+'Sitio 9'!G28+'Sitio 10'!G28) -> 12 | H28: =SUM('Sitio 1'!H28+'Sitio 2'!H28+'Sitio 3'!H28+'Sitio 4'!H28+'Sitio 5'!H28+'Sitio 6'!H28+'Sitio 7'!H28+'Sitio 8'!H28+'Sitio 9'!H28+'Sitio 10'!H28) -> 10 | I28: =SUM('Sitio 1'!I28+'Sitio 2'!I28+'Sitio 3'!I28+'Sitio 4'!I28+'Sitio 5'!I28+'Sitio 6'!I28+'Sitio 7'!I28+'Sitio 8'!I28+'Sitio 9'!I28+'Sitio 10'!I28) -> 12 | J28: =SUM('Sitio 1'!J28+'Sitio 2'!J28+'Sitio 3'!J28+'Sitio 4'!J28+'Sitio 5'!J28+'Sitio 6'!J28+'Sitio 7'!J28+'Sitio 8'!J28+'Sitio 9'!J28+'Sitio 10'!J28) -> 10 | K28: =SUM('Sitio 1'!K28+'Sitio 2'!K28+'Sitio 3'!K28+'Sitio 4'!K28+'Sitio 5'!K28+'Sitio 6'!K28+'Sitio 7'!K28+'Sitio 8'!K28+'Sitio 9'!K28+'Sitio 10'!K28) -> 10 | ... O28: =SUM('Sitio 1'!O28+'Sitio 2'!O28+'Sitio 3'!O28+'Sitio 4'!O28+'Sitio 5'!O28+'Sitio 6'!O28+'Sitio 7'!O28+'Sitio 8'!O28+'Sitio 9'!O28+'Sitio 10'!O28) -> 10 | P28: =SUM(D28:O28) -> 130 | Q28: =SUM('Sitio 1'!Q28+'Sitio 2'!Q28+'Sitio 3'!Q28+'Sitio 4'!Q28+'Sitio 5'!Q28+'Sitio 6'!Q28+'Sitio 7'!Q28+'Sitio 8'!Q28+'Sitio 9'!Q28+'Sitio 10'!Q28) -> 120 | R28: =P28+Q28 -> 250
C29: Number of Monthly HSE Awards distributed | D29: =SUM('Sitio 1'!D29+'Sitio 2'!D29+'Sitio 3'!D29+'Sitio 4'!D29+'Sitio 5'!D29+'Sitio 6'!D29+'Sitio 7'!D29+'Sitio 8'!D29+'Sitio 9'!D29+'Sitio 10'!D29) -> 12 | E29: =SUM('Sitio 1'!E29+'Sitio 2'!E29+'Sitio 3'!E29+'Sitio 4'!E29+'Sitio 5'!E29+'Sitio 6'!E29+'Sitio 7'!E29+'Sitio 8'!E29+'Sitio 9'!E29+'Sitio 10'!E29) -> 12 | F29: =SUM('Sitio 1'!F29+'Sitio 2'!F29+'Sitio 3'!F29+'Sitio 4'!F29+'Sitio 5'!F29+'Sitio 6'!F29+'Sitio 7'!F29+'Sitio 8'!F29+'Sitio 9'!F29+'Sitio 10'!F29) -> 12 | G29: =SUM('Sitio 1'!G29+'Sitio 2'!G29+'Sitio 3'!G29+'Sitio 4'!G29+'Sitio 5'!G29+'Sitio 6'!G29+'Sitio 7'!G29+'Sitio 8'!G29+'Sitio 9'!G29+'Sitio 10'!G29) -> 12 | H29: =SUM('Sitio 1'!H29+'Sitio 2'!H29+'Sitio 3'!H29+'Sitio 4'!H29+'Sitio 5'!H29+'Sitio 6'!H29+'Sitio 7'!H29+'Sitio 8'!H29+'Sitio 9'!H29+'Sitio 10'!H29) -> 10 | I29: =SUM('Sitio 1'!I29+'Sitio 2'!I29+'Sitio 3'!I29+'Sitio 4'!I29+'Sitio 5'!I29+'Sitio 6'!I29+'Sitio 7'!I29+'Sitio 8'!I29+'Sitio 9'!I29+'Sitio 10'!I29) -> 10 | J29: =SUM('Sitio 1'!J29+'Sitio 2'!J29+'Sitio 3'!J29+'Sitio 4'!J29+'Sitio 5'!J29+'Sitio 6'!J29+'Sitio 7'!J29+'Sitio 8'!J29+'Sitio 9'!J29+'Sitio 10'!J29) -> 12 | K29: =SUM('Sitio 1'!K29+'Sitio 2'!K29+'Sitio 3'!K29+'Sitio 4'!K29+'Sitio 5'!K29+'Sitio 6'!K29+'Sitio 7'!K29+'Sitio 8'!K29+'Sitio 9'!K29+'Sitio 10'!K29) -> 12 | ... O29: =SUM('Sitio 1'!O29+'Sitio 2'!O29+'Sitio 3'!O29+'Sitio 4'!O29+'Sitio 5'!O29+'Sitio 6'!O29+'Sitio 7'!O29+'Sitio 8'!O29+'Sitio 9'!O29+'Sitio 10'!O29) -> 10 | P29: =SUM(D29:O29) -> 132 | Q29: =SUM('Sitio 1'!Q29+'Sitio 2'!Q29+'Sitio 3'!Q29+'Sitio 4'!Q29+'Sitio 5'!Q29+'Sitio 6'!Q29+'Sitio 7'!Q29+'Sitio 8'!Q29+'Sitio 9'!Q29+'Sitio 10'!Q29) -> 120 | R29: =P29+Q29 -> 252
C30: Numbers client appreciations and Awards | D30: =SUM('Sitio 1'!D30+'Sitio 2'!D30+'Sitio 3'!D30+'Sitio 4'!D30+'Sitio 5'!D30+'Sitio 6'!D30+'Sitio 7'!D30+'Sitio 8'!D30+'Sitio 9'!D30+'Sitio 10'!D30) -> 10 | E30: =SUM('Sitio 1'!E30+'Sitio 2'!E30+'Sitio 3'!E30+'Sitio 4'!E30+'Sitio 5'!E30+'Sitio 6'!E30+'Sitio 7'!E30+'Sitio 8'!E30+'Sitio 9'!E30+'Sitio 10'!E30) -> 0 | F30: =SUM('Sitio 1'!F30+'Sitio 2'!F30+'Sitio 3'!F30+'Sitio 4'!F30+'Sitio 5'!F30+'Sitio 6'!F30+'Sitio 7'!F30+'Sitio 8'!F30+'Sitio 9'!F30+'Sitio 10'!F30) -> 10 | G30: =SUM('Sitio 1'!G30+'Sitio 2'!G30+'Sitio 3'!G30+'Sitio 4'!G30+'Sitio 5'!G30+'Sitio 6'!G30+'Sitio 7'!G30+'Sitio 8'!G30+'Sitio 9'!G30+'Sitio 10'!G30) -> 0 | H30: =SUM('Sitio 1'!H30+'Sitio 2'!H30+'Sitio 3'!H30+'Sitio 4'!H30+'Sitio 5'!H30+'Sitio 6'!H30+'Sitio 7'!H30+'Sitio 8'!H30+'Sitio 9'!H30+'Sitio 10'!H30) -> 10 | I30: =SUM('Sitio 1'!I30+'Sitio 2'!I30+'Sitio 3'!I30+'Sitio 4'!I30+'Sitio 5'!I30+'Sitio 6'!I30+'Sitio 7'!I30+'Sitio 8'!I30+'Sitio 9'!I30+'Sitio 10'!I30) -> 0 | J30: =SUM('Sitio 1'!J30+'Sitio 2'!J30+'Sitio 3'!J30+'Sitio 4'!J30+'Sitio 5'!J30+'Sitio 6'!J30+'Sitio 7'!J30+'Sitio 8'!J30+'Sitio 9'!J30+'Sitio 10'!J30) -> 10 | K30: =SUM('Sitio 1'!K30+'Sitio 2'!K30+'Sitio 3'!K30+'Sitio 4'!K30+'Sitio 5'!K30+'Sitio 6'!K30+'Sitio 7'!K30+'Sitio 8'!K30+'Sitio 9'!K30+'Sitio 10'!K30) -> 0 | ... O30: =SUM('Sitio 1'!O30+'Sitio 2'!O30+'Sitio 3'!O30+'Sitio 4'!O30+'Sitio 5'!O30+'Sitio 6'!O30+'Sitio 7'!O30+'Sitio 8'!O30+'Sitio 9'!O30+'Sitio 10'!O30) -> 0 | P30: =SUM(D30:O30) -> 60 | Q30: =SUM('Sitio 1'!Q30+'Sitio 2'!Q30+'Sitio 3'!Q30+'Sitio 4'!Q30+'Sitio 5'!Q30+'Sitio 6'!Q30+'Sitio 7'!Q30+'Sitio 8'!Q30+'Sitio 9'!Q30+'Sitio 10'!Q30) -> 60 | R30: =P30+Q30 -> 120
C31: Number of Emergency drills conducted | D31: =SUM('Sitio 1'!D31+'Sitio 2'!D31+'Sitio 3'!D31+'Sitio 4'!D31+'Sitio 5'!D31+'Sitio 6'!D31+'Sitio 7'!D31+'Sitio 8'!D31+'Sitio 9'!D31+'Sitio 10'!D31) -> 10 | E31: =SUM('Sitio 1'!E31+'Sitio 2'!E31+'Sitio 3'!E31+'Sitio 4'!E31+'Sitio 5'!E31+'Sitio 6'!E31+'Sitio 7'!E31+'Sitio 8'!E31+'Sitio 9'!E31+'Sitio 10'!E31) -> 0 | F31: =SUM('Sitio 1'!F31+'Sitio 2'!F31+'Sitio 3'!F31+'Sitio 4'!F31+'Sitio 5'!F31+'Sitio 6'!F31+'Sitio 7'!F31+'Sitio 8'!F31+'Sitio 9'!F31+'Sitio 10'!F31) -> 0 | G31: =SUM('Sitio 1'!G31+'Sitio 2'!G31+'Sitio 3'!G31+'Sitio 4'!G31+'Sitio 5'!G31+'Sitio 6'!G31+'Sitio 7'!G31+'Sitio 8'!G31+'Sitio 9'!G31+'Sitio 10'!G31) -> 0 | H31: =SUM('Sitio 1'!H31+'Sitio 2'!H31+'Sitio 3'!H31+'Sitio 4'!H31+'Sitio 5'!H31+'Sitio 6'!H31+'Sitio 7'!H31+'Sitio 8'!H31+'Sitio 9'!H31+'Sitio 10'!H31) -> 0 | I31: =SUM('Sitio 1'!I31+'Sitio 2'!I31+'Sitio 3'!I31+'Sitio 4'!I31+'Sitio 5'!I31+'Sitio 6'!I31+'Sitio 7'!I31+'Sitio 8'!I31+'Sitio 9'!I31+'Sitio 10'!I31) -> 0 | J31: =SUM('Sitio 1'!J31+'Sitio 2'!J31+'Sitio 3'!J31+'Sitio 4'!J31+'Sitio 5'!J31+'Sitio 6'!J31+'Sitio 7'!J31+'Sitio 8'!J31+'Sitio 9'!J31+'Sitio 10'!J31) -> 10 | K31: =SUM('Sitio 1'!K31+'Sitio 2'!K31+'Sitio 3'!K31+'Sitio 4'!K31+'Sitio 5'!K31+'Sitio 6'!K31+'Sitio 7'!K31+'Sitio 8'!K31+'Sitio 9'!K31+'Sitio 10'!K31) -> 0 | ... O31: =SUM('Sitio 1'!O31+'Sitio 2'!O31+'Sitio 3'!O31+'Sitio 4'!O31+'Sitio 5'!O31+'Sitio 6'!O31+'Sitio 7'!O31+'Sitio 8'!O31+'Sitio 9'!O31+'Sitio 10'!O31) -> 0 | P31: =SUM(D31:O31) -> 30 | Q31: =SUM('Sitio 1'!Q31+'Sitio 2'!Q31+'Sitio 3'!Q31+'Sitio 4'!Q31+'Sitio 5'!Q31+'Sitio 6'!Q31+'Sitio 7'!Q31+'Sitio 8'!Q31+'Sitio 9'!Q31+'Sitio 10'!Q31) -> 30 | R31: =P31+Q31 -> 60

Sheet Sitio 1
A1: Reporte de desempeño HSE mensual
A2: Fecha de inicio | D2: Código del proyecto | L2: Responsable HSE
A3: INDICADORES HSE DE DESEMPEÑO | B3: INDICADORES SECUNDARIOS | C3: Mes | D3: Ene | E3: Feb | F3: Mar | G3: Abr | H3: May | I3: Jun | J3: Jul | K3: Ago | L3: Sep | M3: Oct | N3: Nov | O3: Dic | P3: TOTAL ANUAL | Q3: Previo | R3: GRAN TOTAL
C4: Casos de enfermedades ocupacionales | D4: 1 | E4: 1 | F4: 1 | G4: 2 | H4: 1 | I4: 2 | J4: 6 | K4: 3 | L4: 1 | M4: 8 | N4: 2 | O4: 1 | P4: =SUM(D4:O4) -> 29 | Q4: 10 | R4: =SUM(P4:Q4) -> 39
C5: Lesiones con tratamiento médico | D5: 1 | E5: 0 | F5: 1 | G5: 0 | H5: 0 | I5: 1 | J5: 1 | K5: 0 | L5: 0 | M5: 0 | N5: 0 | O5: 0 | P5: =SUM(D5:O5) -> 4 | Q5: 0 | R5: =SUM(P5:Q5) -> 4
C6: Lesiones laborales | D6: 0 | E6: 1 | F6: 0 | G6: 1 | H6: 0 | I6: 1 | J6: 1 | K6: 0 | L6: 1 | M6: 0 | N6: 1 | O6: 0 | P6: =SUM(D6:O6) -> 6 | Q6: 0 | R6: =SUM(P6:Q6) -> 6
C7: Tiempo perdido por lesiones | D7: 1 | E7: 0 | F7: 0 | G7: 1 | H7: 0 | I7: 0 | J7: 0 | K7: 0 | L7: 0 | M7: 0 | N7: 0 | O7: 0 | P7: =SUM(D7:O7) -> 2 | Q7: 0 | R7: =SUM(P7:Q7) -> 2
C8: Número de días perdidos | D8: 1 | E8: 0 | F8: 1 | G8: 1 | H8: 0 | I8: 0 | J8: 0 | K8: 0 | L8: 0 | M8: 0 | N8: 0 | O8: 0 | P8: =SUM(D8:O8) -> 3 | R8: =SUM(P8:Q8) -> 3
C9: Fatalidades | D9: 1 | E9: 0 | F9: 1 | G9: 1 | H9: 0 | I9: 0 | J9: 0 | K9: 0 | L9: 0 | M9: 0 | N9: 0 | O9: 0 | P9: =SUM(D9:O9) -> 3 | Q9: 0 | R9: =SUM(P9:Q9) -> 3
C10: Incidentes en carretera | D10: 0 | E10: 1 | F10: 1 | G10: 0 | H10: 0 | I10: 0 | J10: 0 | K10: 0 | L10: 0 | M10: 0 | N10: 0 | O10: 0 | P10: =SUM(D10:O10) -> 2 | Q10: 0 | R10: =SUM(P10:Q10) -> 2
C11: Incidentes con daños a la propiedad | D11: 0 | E11: 0 | F11: 0 | G11: 0 | H11: 0 | I11: 0 | J11: 0 | K11: 0 | L11: 0 | M11: 0 | N11: 0 | O11: 0 | P11: =SUM(D11:O11) -> 0 | Q11: 0 | R11: =SUM(P11:Q11) -> 0
C12: Incidentes ambientales | D12: 0 | E12: 0 | F12: 0 | G12: 1 | H12: 0 | I12: 0 | J12: 0 | K12: 0 | L12: 1 | M12: 0 | N12: 0 | O12: 0 | P12: =SUM(D12:O12) -> 2 | Q12: 2 | R12: =SUM(P12:Q12) -> 4
C13: Número de simulacros realizados | D13: 2 | E13: 5 | F13: 3 | G13: 4 | H13: 7 | I13: 1 | J13: 3 | K13: 6 | L13: 9 | M13: 4 | N13: 2 | O13: 1 | P13: =SUM(D13:O13) -> 47 | Q13: 260 | R13: =SUM(P13:Q13) -> 307
C14: Número de incorformidades detectadas | D14: 2 | E14: 5 | F14: 3 | G14: 4 | H14: 7 | I14: 1 | J14: 3 | K14: 6 | L14: 9 | M14: 4 | N14: 2 | O14: 1 | P14: =SUM(D14:O14) -> 47 | Q14: 250 | R14: =SUM(P14:Q14) -> 297
B15: INDICADORES PRINCIPALES | C15: Total de horas hombre laboradas | D15: 25000 | E15: 35000 | F15: 45000 | G15: 55000 | H15: 65000 | I15: 75000 | J15: 85000 | K15: 95000 | L15: 100000 | M15: 150000 | N15: 200000 | O15: 250000 | P15: =IFERROR(SUM(D15:O15),"") -> 1180000 | Q15: 1150000 | R15: =SUM(P15:Q15) -> 2330000
C16: Total de horas hombres laboradas sin accidentes | D16: 25000 | E16: 35000 | F16: 45000 | G16: 55000 | H16: 65000 | I16: 75000 | J16: 85000 | K16: 95000 | L16: 100000 | M16: 150000 | N16: 200000 | O16: 250000 | P16: =IFERROR(SUM(D16:O16),"") -> 1180000 | Q16: 1150000 | R16: =SUM(P16:Q16) -> 2330000
C17: Promedio de horas hombre | D17: 250 | E17: 200 | F17: 250 | G17: 250 | H17: 250 | I17: 220 | J17: 210 | K17: 205 | L17: 195 | M17: 200 | N17: 225 | O17: 226 | P17: =IFERROR(AVERAGE(D17:O17),"") -> 223.41667 | Q17: 250 | R17: =SUM(P17:Q17) -> 473.41667
C18: Nearmiss Incidents Reported | D18: 0 | E18: 0 | F18: 0 | G18: 0 | H18: 0 | I18: 2 | J18: 1 | K18: 2 | L18: 0 | M18: 1 | N18: 2 | O18: 1 | P18: =SUM(D18:O18) -> 9 | Q18: 10 | R18: =SUM(P18:Q18) -> 19
C19: Number of Client HSE observations - Closed | D19: 2 | E19: 5 | F19: 3 | G19: 4 | H19: 7 | I19: 1 | J19: 3 | K19: 6 | L19: 9 | M19: 4 | N19: 2 | O19: 1 | P19: =SUM(D19:O19) -> 47 | Q19: 50 | R19: =SUM(P19:Q19) -> 97
C20: Number of Internal HSE observations - Closed | D20: 2 | E20: 5 | F20: 3 | G20: 4 | H20: 7 | I20: 1 | J20: 3 | K20: 6 | L20: 9 | M20: 4 | N20: 2 | O20: 1 | P20: =SUM(D20:O20) -> 47 | Q20: 50 | R20: =SUM(P20:Q20) -> 97
C21: Number of HSE Walk through/Audits - Client | D21: 4 | E21: 4 | F21: 4 | G21: 4 | H21: 4 | I21: 4 | J21: 4 | K21: 4 | L21: 4 | M21: 4 | N21: 4 | O21: 4 | P21: =SUM(D21:O21) -> 48 | Q21: 16 | R21: =SUM(P21:Q21) -> 64
C22: Number of HSE walk through/Audits - Internal | D22: 2 | E22: 2 | F22: 2 | G22: 2 | H22: 2 | I22: 2 | J22: 2 | K22: 2 | L22: 2 | M22: 2 | N22: 2 | O22: 2 | P22: =SUM(D22:O22) -> 24 | Q22: 24 | R22: =SUM(P22:Q22) -> 48
C23: Number of Safety Inspection | D23: 20 | E23: 30 | F23: 30 | G23: 30 | H23: 30 | I23: 30 | J23: 30 | K23: 30 | L23: 30 | M23: 30 | N23: 30 | O23: 30 | P23: =SUM(D23:O23) -> 350 | Q23: 210 | R23: =SUM(P23:Q23) -> 560
C24: Number of Group Meetings conducted | D24: 4 | E24: 4 | F24: 4 | G24: 4 | H24: 4 | I24: 4 | J24: 4 | K24: 4 | L24: 4 | M24: 4 | N24: 4 | O24: 4 | P24: =SUM(D24:O24) -> 48 | Q24: 48 | R24: =SUM(P24:Q24) -> 96
C25: Number of HSE Meetings conducted | D25: 1 | E25: 1 | F25: 1 | G25: 1 | H25: 1 | I25: 1 | J25: 1 | K25: 1 | L25: 1 | M25: 1 | N25: 1 | O25: 1 | P25: =SUM(D25:O25) -> 12 | Q25: 12 | R25: =SUM(P25:Q25) -> 24
C26: Site HSE induction internal - Number of persons | D26: 20 | E26: 20 | F26: 20 | G26: 20 | H26: 10 | I26: 5 | J26: 10 | K26: 22 | L26: 30 | M26: 10 | N26: 5 | O26: 10 | P26: =SUM(D26:O26) -> 182 | Q26: 200 | R26: =SUM(P26:Q26) -> 382
C27: Número de inconformidades detectadas | D27: 20 | E27: 20 | F27: 20 | G27: 20 | H27: 10 | I27: 5 | J27: 10 | K27: 22 | L27: 30 | M27: 10 | N27: 5 | O27: 10 | P27: =SUM(D27:O27) -> 182 | Q27: 100 | R27: =SUM(P27:Q27) -> 282
C28: Número de charlas HSE | D28: 3 | E28: 1 | F28: 3 | G28: 3 | H28: 1 | I28: 3 | J28: 1 | K28: 1 | L28: 1 | M28: 1 | N28: 1 | O28: 1 | P28: =SUM(D28:O28) -> 20 | Q28: 12 | R28: =SUM(P28:Q28) -> 32
C29: Distribución de premios mensuales HSE | D29: 1 | E29: 3 | F29: 1 | G29: 1 | H29: 1 | I29: 1 | J29: 1 | K29: 1 | L29: 1 | M29: 1 | N29: 1 | O29: 1 | P29: =SUM(D29:O29) -> 14 | Q29: 12 | R29: =SUM(P29:Q29) -> 26
... C31: Número de emergencias | D31: 1 | E31: 0 | F31: 0 | G31: 0 | H31: 0 | I31: 0 | J31: 1 | K31: 0 | L31: 0 | M31: 0 | N31: 1 | O31: 0 | P31: =SUM(D31:O31) -> 3 | Q31: 3 | R31: =SUM(P31:Q31) -> 6

Sheet Sitio 2
A1: Monthly Project HSE Performance Report
A2: Project Start Date | D2: Project Code | L2: Name of Reporting HSE Person
A3: HSE KEY PERFORMANCE INDICATORS | B3: KPI - LAGGING | C3: Month | D3: Jan | E3: Feb | F3: Mar | G3: Apr | H3: May | I3: Jun | J3: Jul | K3: Aug | L3: Sep | M3: Oct | N3: Nov | O3: Dec | P3: YTD | Q3: Previous Year Cumulative | R3: Project Cumulative
C4: First Aid Case ( FAC ) | D4: 1 | E4: 1 | F4: 1 | G4: 2 | H4: 1 | I4: 2 | J4: 6 | K4: 3 | L4: 1 | M4: 8 | N4: 2 | O4: 1 | P4: =SUM(D4:O4) -> 29 | Q4: 10 | R4: =SUM(P4:Q4) -> 39
C5: Medical Treatment Injury ( MTI ) | D5: 2 | E5: 2 | F5: 2 | G5: 2 | H5: 2 | I5: 2 | J5: 2 | K5: 2 | L5: 2 | M5: 2 | N5: 0 | O5: 2 | P5: =SUM(D5:O5) -> 22 | Q5: 0 | R5: =SUM(P5:Q5) -> 22
C6: Restricted work Injury (RWI ) | D6: 0 | E6: 0 | F6: 0 | G6: 0 | H6: 0 | I6: 0 | J6: 0 | K6: 0 | L6: 0 | M6: 0 | N6: 0 | O6: 0 | P6: =SUM(D6:O6) -> 0 | Q6: 0 | R6: =SUM(P6:Q6) -> 0
